BEGIN:VCALENDAR
VERSION:2.0
PRODID:-//Kraftur - ECPv6.15.15//NONSGML v1.0//EN
CALSCALE:GREGORIAN
METHOD:PUBLISH
X-ORIGINAL-URL:https://kraftur.org
X-WR-CALDESC:Viðburðir í Kraftur
REFRESH-INTERVAL;VALUE=DURATION:PT1H
X-Robots-Tag:noindex
X-PUBLISHED-TTL:PT1H
BEGIN:VTIMEZONE
TZID:UTC
BEGIN:STANDARD
TZOFFSETFROM:+0000
TZOFFSETTO:+0000
TZNAME:UTC
DTSTART:20180101T000000
END:STANDARD
END:VTIMEZONE
BEGIN:VEVENT
DTSTART;TZID=UTC:20191116T110000
DTEND;TZID=UTC:20191116T130000
DTSTAMP:20260423T045022
CREATED:20190927T111236Z
LAST-MODIFIED:20190927T111236Z
UID:1240485-1573902000-1573909200@kraftur.org
SUMMARY:Fógetastígur - Að klífa brattann
DESCRIPTION:Nú göngum við um Fógetastíginn í Gálgahrauni\, á Álftanesinu Gangan er miðlungserfið 4\,7 km og tekur um 1\,5 klst. Lagt er af stað frá bílastæðinu við hringtorgið þar sem Vífilstaðavegur og Hraunholtsbraut mætast (https://goo.gl/maps/4tWGLgnRKYc3moXs5). \nKomum saman og njótum þess að vera úti að hreyfa okkur í fallegri náttúru. \nKort af gönguleið: \n \nHittumst hér:  \n \n  \nAð klífa brattann er gönguhópur fyrir krabbameinsgreinda og aðstandendur sem Kraftskonurnar Ragnheiður Guðmundsdóttir og G.sigríður Ágústsdóttir leiða en þær hafa báðar notað útivist og fjallgöngur sér til endurhæfingar og sjálfseflingar í veikindum sínum. \nGöngurnar henta öllum þeim sem hafa áhuga á að kynna sér göngur og íslenska náttúru og njóta þess að vera í hópi meðal jafningja. \nKraftsfélagar\, fjölskyldur þeirra\, börn og vinir eru hjartanlega velkomin. Endilega meldið ykkur á Facebook viðburðinum  \nRagnheiður (sími: 663-9360) og Sirrý (sími: 660-4407)
URL:https://kraftur.org/vidburdur/fogetastigur-ad-klifa-brattann/
LOCATION:Gálgahraun bílastæði\, Vífilstaðavegur\, Garðabæ\, 211\, Iceland
ATTACH;FMTTYPE=image/jpeg:https://kraftur.org/wp-content/uploads/2019/05/gönguhopur_ad_kifa_brattann_1-2-scaled.jpg
END:VEVENT
END:VCALENDAR