BEGIN:VCALENDAR
VERSION:2.0
PRODID:-//Kraftur - ECPv6.15.15//NONSGML v1.0//EN
CALSCALE:GREGORIAN
METHOD:PUBLISH
X-ORIGINAL-URL:https://kraftur.org
X-WR-CALDESC:Viðburðir í Kraftur
REFRESH-INTERVAL;VALUE=DURATION:PT1H
X-Robots-Tag:noindex
X-PUBLISHED-TTL:PT1H
BEGIN:VTIMEZONE
TZID:UTC
BEGIN:STANDARD
TZOFFSETFROM:+0000
TZOFFSETTO:+0000
TZNAME:UTC
DTSTART:20180101T000000
END:STANDARD
END:VTIMEZONE
BEGIN:VEVENT
DTSTART;TZID=UTC:20191123T110000
DTEND;TZID=UTC:20191123T130000
DTSTAMP:20260423T045015
CREATED:20191031T155510Z
LAST-MODIFIED:20191031T155510Z
UID:1241437-1574506800-1574514000@kraftur.org
SUMMARY:Ólympískar lyftingar - FítonsKraftur
DESCRIPTION:Það þarf Kraft og vöðva til að takast á við krabbamein.\n\n\n \n\n\nLaugardaginn 23. nóvember ætlum við að skella okkur í ólympískar lyftingar hjá Lyftingaadeild Ármanns. Þjálfarinn okkar verður snilligurinn Davíð Ólafur Davíðsson\, íþrótta- og heilsufræðingur sem mun fara með okkur í grunnatriði í snörun og clean & jerk. En eins og við vitum öll skiptir tækni miklu máli þegar kemur að því að lyfta og styrkja sig og því er þetta frábært tækifæri til að læra hana.\n\n\n \n\n\nMarkmiðið er að allir geti verið með og hafi gagn og gaman af og er tekið mið af getu og hraða hvers og eins. \n\n\n \n\n\nHittumst í anddyrinu í Laugardalslaug – við erum svo að fara massa þetta!!!\nEndilega meldaðu þig á viðburðinn á Facebook.
URL:https://kraftur.org/vidburdur/olympiskar-lyftingar-fitonskraftur/
LOCATION:Laugardalslaugin\, Sundlaugarvegur 30\, Reykjavík\, Reykjavík\, 105\, Iceland
ATTACH;FMTTYPE=image/jpeg:https://kraftur.org/wp-content/uploads/2019/10/banner_nov_OLY_fitons-kraftur-2.jpg
END:VEVENT
END:VCALENDAR