BEGIN:VCALENDAR
VERSION:2.0
PRODID:-//Kraftur - ECPv6.15.15//NONSGML v1.0//EN
CALSCALE:GREGORIAN
METHOD:PUBLISH
X-ORIGINAL-URL:https://kraftur.org
X-WR-CALDESC:Viðburðir í Kraftur
REFRESH-INTERVAL;VALUE=DURATION:PT1H
X-Robots-Tag:noindex
X-PUBLISHED-TTL:PT1H
BEGIN:VTIMEZONE
TZID:UTC
BEGIN:STANDARD
TZOFFSETFROM:+0000
TZOFFSETTO:+0000
TZNAME:UTC
DTSTART:20180101T000000
END:STANDARD
END:VTIMEZONE
BEGIN:VEVENT
DTSTART;TZID=UTC:20190917T200000
DTEND;TZID=UTC:20190917T220000
DTSTAMP:20260423T062628
CREATED:20190904T114015Z
LAST-MODIFIED:20190904T114015Z
UID:1239788-1568750400-1568757600@kraftur.org
SUMMARY:StrákaKraftur - stuðningshópur
DESCRIPTION:StrákaKraftur verður með frábæra kvöldstund með Jóni Halldórssyni í Kvan 14. desember. Kraftur mun bjóða upp á góðan mat og hristum hópinn saman með Nonna snillingi. \nÁ undanförnum árum hefur Nonni unnið ýmis verkefni með Krafti með frábærum árangri. Nonni hefur unnið mikið með fólki og aðstoðað það við að setja sér skýr markmið og með aðferðafræði markþjálfunar skoðað hvaða þættir eru líklegastir til að hjálpa fólki við að ná settu marki. \nÞetta verður skemmtilegt kvöld sem við hvetjum þig til að mæta á en það þarf að skrá sig hér til að við getum áætlað matinn. \nFrekari upplýsingar koma svo inn síðar í desember. \nStrákaKraftur er stuðningshópur fyrir unga menn á aldrinum 18 – 45 ára sem greinst hafa með krabbamein. \nÞegar maður er ungur og greinist með krabbamein skiptir svo miklu máli að hitta aðra í sömu sporum sem búa að svipaðri reynslu. \nUmsjónarmenn StrákaKrafts er Gísli Álfgeirsson\, félagsmaður í Krafti. Hægt er að óska eftir inngöngu hér. 
URL:https://kraftur.org/vidburdur/strakakraftur-3/
LOCATION:Kraftur  – Stuðningsfélag fyrir ungt fólk sem greinst hefur með krabbamein og aðstandendur\, Skógarhlíð 8\, Reykjavík\, Reykjavík\, 105\, Iceland
ATTACH;FMTTYPE=image/jpeg:https://kraftur.org/wp-content/uploads/2019/09/Banner_strakaKraftur_studningshopur.jpg
END:VEVENT
END:VCALENDAR