BEGIN:VCALENDAR
VERSION:2.0
PRODID:-//Kraftur - ECPv6.15.15//NONSGML v1.0//EN
CALSCALE:GREGORIAN
METHOD:PUBLISH
X-ORIGINAL-URL:https://kraftur.org
X-WR-CALDESC:Viðburðir í Kraftur
REFRESH-INTERVAL;VALUE=DURATION:PT1H
X-Robots-Tag:noindex
X-PUBLISHED-TTL:PT1H
BEGIN:VTIMEZONE
TZID:UTC
BEGIN:STANDARD
TZOFFSETFROM:+0000
TZOFFSETTO:+0000
TZNAME:UTC
DTSTART:20180101T000000
END:STANDARD
END:VTIMEZONE
BEGIN:VEVENT
DTSTART;TZID=UTC:20191205T180000
DTEND;TZID=UTC:20191205T210000
DTSTAMP:20260423T075304
CREATED:20191104T100918Z
LAST-MODIFIED:20191104T100918Z
UID:1241473-1575568800-1575579600@kraftur.org
SUMMARY:Aðventukvöld Krafts
DESCRIPTION:Fimmtudaginn 5. desember verður haldið hið árlega aðventukvöld Krafts að Skógarhlíð 8 frá kl. 18-21 fyrir félagsmenn okkar og fjölskyldu. \nGlæsileg dagskrá þar sem Ari Eldjárn verður með uppistand\, Sigríður Thorlacius og Sigurður Guðmundsson munu koma og syngja falleg jólalög fyrir okkur og Andri Snær Magnason mun lesa upp úr bók sinni\, Tíminn og vatnið. Að sjálfsögðu verður jólahappdrættið okkar á sínum stað þar sem margir glæsilegir vinningar eru í boði. \nHlaðborð með allskyns jólaveitingum fyrir alla og jólakonfektið okkar verður auðvitað til sölu á staðnum sem og alls kyns varningur merktur „Lífið er núna“ sem er tilvalinn í jólapakkann. \nHlökkum til að sjá ykkur í kósý fíling á aðventunni en að sjálfsögðu er aðventukvöldið ykkur alfarið að kostnaðarlausu 🙂 \nEndilega meldaðu þig á Facebook  \n 
URL:https://kraftur.org/vidburdur/adventukvold-krafts-3/
LOCATION:Kraftur  – Stuðningsfélag fyrir ungt fólk sem greinst hefur með krabbamein og aðstandendur\, Skógarhlíð 8\, Reykjavík\, Reykjavík\, 105\, Iceland
ATTACH;FMTTYPE=image/jpeg:https://kraftur.org/wp-content/uploads/2019/10/banner_adventukvold_4-2.jpg
END:VEVENT
END:VCALENDAR