BEGIN:VCALENDAR
VERSION:2.0
PRODID:-//Kraftur - ECPv6.15.15//NONSGML v1.0//EN
CALSCALE:GREGORIAN
METHOD:PUBLISH
X-ORIGINAL-URL:https://kraftur.org
X-WR-CALDESC:Viðburðir í Kraftur
REFRESH-INTERVAL;VALUE=DURATION:PT1H
X-Robots-Tag:noindex
X-PUBLISHED-TTL:PT1H
BEGIN:VTIMEZONE
TZID:UTC
BEGIN:STANDARD
TZOFFSETFROM:+0000
TZOFFSETTO:+0000
TZNAME:UTC
DTSTART:20190101T000000
END:STANDARD
END:VTIMEZONE
BEGIN:VEVENT
DTSTART;TZID=UTC:20200115T193000
DTEND;TZID=UTC:20200115T213000
DTSTAMP:20260425T201616
CREATED:20190930T174606Z
LAST-MODIFIED:20190930T174606Z
UID:1240562-1579116600-1579123800@kraftur.org
SUMMARY:NorðanKraftur
DESCRIPTION:NorðanKraftur er stuðningshópur fyrir ungt fólk (45 ára og yngri) sem greinst hefur með krabbamein og aðstandendur staðsettur á Akureyri. \nNorðanKraftur mun hittast annan annan hvern miðvikudag í vetur. Tímasetningar eru misjafnar en yfirleitt um eða eftir kvöldmat.\nBoðið verður bæði upp á ýmiskonar skemmtilega viðburði þar sem við komum saman og hittum aðra í sambærilegum sporum. \nHópurinn er samstarfsverkefni Krafts og Krabbameinsfélags Akureyrar og nágrennis. Hópurinn er starfræktur frá Akureyri. \nDAGSKRÁ -MARS\nFim. 5. MARS kl. 16:30-18:30\nHrúturinn – ráðstefna KAON um karla og krabbamein verður haldin í Hofi í tilefni af Mottumars. Sjá nánar hér.  \nÞri. 10. MARS kl. 20:00\nPílukvöld hjá NorðanKrafti með Þór. Sjá nánar hér  \nFös. 27. MARS – Sun. 29. MARS\nSkíðaferð Krafts á Akureyri í umsjón NorðanKrafts. Sjá nánar hér.  \nLau. 28. MARS kl. 20:30 – 22:00 \nPubQuiz NorðanKrafts verður haldið á Kaffi Kú á Akureyri. Þrælskemmtileg kvöldskemmtun sem þú ættir ekki að missa af. Sjá nánar hér. \n____________________________________________ \nUmsjón með hópnum hefur Sara Ómarsdóttir\, starfsmaður og félagsmaður hjá Krafti. \nFrekari upplýsingar eru inn á hópi NorðanKrafts – Hægt er að óska eftir inngöngu í hópinn hér.
URL:https://kraftur.org/vidburdur/nordankraftur/
LOCATION:Akureyri\, Akureyri\, Akureyri\, Akureyri\, 600\, Iceland
ATTACH;FMTTYPE=image/png:https://kraftur.org/wp-content/uploads/2018/08/NorðanKraftur.png
END:VEVENT
END:VCALENDAR