BEGIN:VCALENDAR
VERSION:2.0
PRODID:-//Kraftur - ECPv6.15.15//NONSGML v1.0//EN
CALSCALE:GREGORIAN
METHOD:PUBLISH
X-ORIGINAL-URL:https://kraftur.org
X-WR-CALDESC:Viðburðir í Kraftur
REFRESH-INTERVAL;VALUE=DURATION:PT1H
X-Robots-Tag:noindex
X-PUBLISHED-TTL:PT1H
BEGIN:VTIMEZONE
TZID:UTC
BEGIN:STANDARD
TZOFFSETFROM:+0000
TZOFFSETTO:+0000
TZNAME:UTC
DTSTART:20190101T000000
END:STANDARD
END:VTIMEZONE
BEGIN:VEVENT
DTSTART;TZID=UTC:20200122T171500
DTEND;TZID=UTC:20200122T184500
DTSTAMP:20260425T105323
CREATED:20191230T090224Z
LAST-MODIFIED:20191230T090224Z
UID:1245025-1579713300-1579718700@kraftur.org
SUMMARY:Fræðslufyrirlestur - Virkar vegan mataræði gegn krabbameini?
DESCRIPTION:Fyrsti fyrirlesturinn á nýju ári í fyrirlestraröð Krafts – Ungt fólk og krabbamein –  verður haldinn miðvikudaginn 22. janúar kl. 17.15 í Ráðgjafarþjónustu Krabbameinsfélagsins að Skógarhlíð 8. \nÞar sem árið byrjar af Krafti með Veganúar ætlum við að þessu sinni að fjalla um Veganmataræði í tengslum við krabbamein. Við vörpum fram spurningunni – Virkar vegan mataræði gegn krabbameini? Aðalfyrirlesari verður Guðrún Ósk Maríasdóttir\, matvælafræðingur sem mun fara yfir mataræði og krabbamein. \nSérstakur gestur verður Elín Sandra Skúladóttir\, formaður Krafts\, sem greindist með krabbamein og hefur tileinkað sér vegan mataræði eftir greiningu. \nFyrirlesturinn er öllum opinn og er án endurgjalds. Boðið verður upp á léttar veitingar. Allir hjartanlega velkomnir. \n\nFyrirlestrinum verður einnig streymt í beinni á netinu og mun vera opið hjá NorðanKrafti í húsnæði Krabbameinsfélagsins á Akureyri þar sem hægt verður að horfa á fyrirlesturinn og spjalla um viðfangsefnið.
URL:https://kraftur.org/vidburdur/fraedslufyrirlestur-virkar-vegan-mataraedi-gegn-krabbameini/
LOCATION:Kraftur  – Stuðningsfélag fyrir ungt fólk sem greinst hefur með krabbamein og aðstandendur\, Skógarhlíð 8\, Reykjavík\, Reykjavík\, 105\, Iceland
ATTACH;FMTTYPE=image/jpeg:https://kraftur.org/wp-content/uploads/2019/12/Banner_januar2020__fyrirlestrarröd_vegan_web-1.jpg
END:VEVENT
END:VCALENDAR