BEGIN:VCALENDAR
VERSION:2.0
PRODID:-//Kraftur - ECPv6.15.15//NONSGML v1.0//EN
CALSCALE:GREGORIAN
METHOD:PUBLISH
X-ORIGINAL-URL:https://kraftur.org
X-WR-CALDESC:Viðburðir í Kraftur
REFRESH-INTERVAL;VALUE=DURATION:PT1H
X-Robots-Tag:noindex
X-PUBLISHED-TTL:PT1H
BEGIN:VTIMEZONE
TZID:UTC
BEGIN:STANDARD
TZOFFSETFROM:+0000
TZOFFSETTO:+0000
TZNAME:UTC
DTSTART:20190101T000000
END:STANDARD
END:VTIMEZONE
BEGIN:VEVENT
DTSTART;TZID=UTC:20200129T200000
DTEND;TZID=UTC:20200129T220000
DTSTAMP:20260425T105320
CREATED:20191230T093640Z
LAST-MODIFIED:20191230T093640Z
UID:1245037-1580328000-1580335200@kraftur.org
SUMMARY:Improv Ísland spunasýning
DESCRIPTION:Við ætlum að skella okkur á spunasýningu Improv Ísland\, miðvikudaginn\, 29. janúar kl. 20:00. \nImprov Ísland hópurinn býður upp á fjölbreyttar og ófyrirsjáanlegar grín-spunasýningar í Þjóðleikhúskjallaranum á hverju miðvikudagskvöldi. Þau sýna ólík spunaform og fá til sín ýmsa þjóðþekkta gesti. Í leikhópnum eru rúmlega 20 spunaleikarar sem skiptast á að sýna í hverri viku. Dóra Jóhannsdóttir er listrænn stjórnandi Improv Ísland og Karl Olgeirsson er tónlistarstjóri hópsins. \nÞað er nær alltaf fullt á allar spunasýningar Improv Ísland í Þjóðleikhúskjallaranum og stór hluti áhorfenda kemur aftur og aftur enda eru engar tvær sýningar eins og engum leiðist að hlæja! \nSýningin er Kraftsfélögum að kostnaðarlausu en takmarkað sætapláss er í boði svo það borgar sig að skrá sig sem fyrst.  Fólk getur líka keypt sig inn á sýninguna hjá Improv Ísland. \nSkrá mig á Improv Ísland sýninguna 
URL:https://kraftur.org/vidburdur/improv-island-spunasyning/
LOCATION:Þjóðleikhúskjallarinn\, Hverfisgata 19\, Reykjavík\, 101\, 101\, Iceland
ATTACH;FMTTYPE=image/jpeg:https://kraftur.org/wp-content/uploads/2019/12/Banner_januar2020__improv-2.jpg
END:VEVENT
END:VCALENDAR