BEGIN:VCALENDAR
VERSION:2.0
PRODID:-//Kraftur - ECPv6.15.15//NONSGML v1.0//EN
CALSCALE:GREGORIAN
METHOD:PUBLISH
X-ORIGINAL-URL:https://kraftur.org
X-WR-CALDESC:Viðburðir í Kraftur
REFRESH-INTERVAL;VALUE=DURATION:PT1H
X-Robots-Tag:noindex
X-PUBLISHED-TTL:PT1H
BEGIN:VTIMEZONE
TZID:UTC
BEGIN:STANDARD
TZOFFSETFROM:+0000
TZOFFSETTO:+0000
TZNAME:UTC
DTSTART:20190101T000000
END:STANDARD
END:VTIMEZONE
BEGIN:VEVENT
DTSTART;TZID=UTC:20200211T173000
DTEND;TZID=UTC:20200211T190000
DTSTAMP:20260425T140525
CREATED:20200128T093751Z
LAST-MODIFIED:20200128T093751Z
UID:1246266-1581442200-1581447600@kraftur.org
SUMMARY:AðstandendaKraftur - Hvað er í boði fyrir mig?
DESCRIPTION:Þegar fjölskyldumeðlimur eða ástvinur greinist með krabbamein hefur það mikil áhrif á aðstandendur og er mikilvægt að þau hugi líka að sér. \nÞriðjudaginn 11. febrúar klukkan 17:30 ætlum við að fara yfir þær þjónustur sem eru í boði fyrir aðstandendur og hvert þeir geti leitað til að fá aðstoð. Ráðgjafaþjónusta Krabbameinsfélagsins og Ljósið verða með kynningu á sinni þjónustu fyrir aðstandendur. \nNÁNAR UM AÐSTANDENDAKRAFT\nAðstandendaKraftur er vettvangur fyrir aðstandendur til að hittast\, fræðast og deila sinni reynslu. Ef þú ert maki eða náinn aðstandandi getur það haft í för með sér verulegar breytingar á þínu lífi þar sem ýmsar spurningar geta vaknað og getur verið erfitt að vera til staðar fyrir þig og aðra á sama tíma. Það eru fleiri í þínum sporum. \nKomdu á opið kvöld hjá AðstandendaKrafti. Við verðum í Ráðgjafarþjónustu Krabbameinsfélagsins\, Skógarhlíð 8. Boðið verður upp á léttar veitingar. \nHlökkum til að sjá þig.
URL:https://kraftur.org/vidburdur/adstandendakraftur-hvad-er-bodi-fyrir-mig/
LOCATION:Kraftur  – Stuðningsfélag fyrir ungt fólk sem greinst hefur með krabbamein og aðstandendur\, Skógarhlíð 8\, Reykjavík\, Reykjavík\, 105\, Iceland
ATTACH;FMTTYPE=image/jpeg:https://kraftur.org/wp-content/uploads/2019/12/Banner_oktober_adstandendur.jpg
END:VEVENT
END:VCALENDAR