BEGIN:VCALENDAR
VERSION:2.0
PRODID:-//Kraftur - ECPv6.15.15//NONSGML v1.0//EN
CALSCALE:GREGORIAN
METHOD:PUBLISH
X-ORIGINAL-URL:https://kraftur.org
X-WR-CALDESC:Viðburðir í Kraftur
REFRESH-INTERVAL;VALUE=DURATION:PT1H
X-Robots-Tag:noindex
X-PUBLISHED-TTL:PT1H
BEGIN:VTIMEZONE
TZID:UTC
BEGIN:STANDARD
TZOFFSETFROM:+0000
TZOFFSETTO:+0000
TZNAME:UTC
DTSTART:20190101T000000
END:STANDARD
END:VTIMEZONE
BEGIN:VEVENT
DTSTART;TZID=UTC:20200222T130000
DTEND;TZID=UTC:20200222T143000
DTSTAMP:20260425T140357
CREATED:20200130T223046Z
LAST-MODIFIED:20200130T223046Z
UID:1246332-1582376400-1582381800@kraftur.org
SUMMARY:Crossfit með FítonsKrafti
DESCRIPTION:Við erum að fara á frábæra Crossfit æfingu með FítonsKrafti laugardaginn 22. febrúar í CrossFit XY í Garðabæ.  Árni Björn Kristjánsson sem er einn af meðeigendum og yfirþjálfurum þar ætlar þá að hitta okkur og fara með okkur í gegnum snilldar Crossfit æfingu við allra hæfi.\n\n\nÁrni þekkir það af eigin skinni að takast á við erfiðleika og að þurfa byrja á núllpunkti þegar kemur að hreyfingu og líkamsrækt. Árni var í mikilli ofþyngd árið 2009 og byrjaði þá í CrossFit og hefur ekki stoppað síðan. Hann hefur verið að þjálfa og keppa í CrossFit síðan 2011 og hefur keppt margsinnis á Evrópuleikum og Heimsleikum í CrossFit.\n\n\n\nÁrni er algjörlega með þetta og kann að sníða æfingar eftir getu og hraða hvers og eins svo að allir geti haft gagn og gaman af. Því er þetta tilvalið tækifæri fyrir alla sem hafa viljað prófa Crossfit að koma og kynna sér það.\n\n\n \n\n\nEndilega skráðu þig hér svo við vitum fjölda þátttakenda en allir félagsmenn Krafts eru velkomnir að taka þátt í æfingunni sem er ykkur að sjálfsögðu að kostnaðarlausu.\n\n\nHittumst í anddyrinu hjá Crossfit XY – við erum svo að fara massa þetta saman!
URL:https://kraftur.org/vidburdur/crossfit-med-fitonskrafti/
LOCATION:Crossfit XY\, Miðhraun 2\, Garðabæ\, 210\, Iceland
ATTACH;FMTTYPE=image/jpeg:https://kraftur.org/wp-content/uploads/2020/01/Banner_feb_2020_fitons-kraftur_Crossfit_Banner_fitons-kraftur_Crossfit-1-2.jpg
END:VEVENT
END:VCALENDAR