BEGIN:VCALENDAR
VERSION:2.0
PRODID:-//Kraftur - ECPv6.15.15//NONSGML v1.0//EN
CALSCALE:GREGORIAN
METHOD:PUBLISH
X-ORIGINAL-URL:https://kraftur.org
X-WR-CALDESC:Viðburðir í Kraftur
REFRESH-INTERVAL;VALUE=DURATION:PT1H
X-Robots-Tag:noindex
X-PUBLISHED-TTL:PT1H
BEGIN:VTIMEZONE
TZID:UTC
BEGIN:STANDARD
TZOFFSETFROM:+0000
TZOFFSETTO:+0000
TZNAME:UTC
DTSTART:20190101T000000
END:STANDARD
END:VTIMEZONE
BEGIN:VEVENT
DTSTART;TZID=UTC:20200310T200000
DTEND;TZID=UTC:20200310T220000
DTSTAMP:20260425T154226
CREATED:20200303T162345Z
LAST-MODIFIED:20200303T162345Z
UID:1247569-1583870400-1583877600@kraftur.org
SUMMARY:NorðanKraftur - Píla
DESCRIPTION:Píludeild Þórs ætlar að bjóða okkur að koma í pílu þriðjudaginn 10. mars n.k. kl. 20:00 \nPíla er mjög skemmtilegt og það verður gaman að koma og prófa. Það er allt til alls\, við bara mætum spræk. \nEins og í aðra viðburði sem við höfum verið að halda er ykkur velkomið að koma með +1 með ykkur. \nPíludeild Þórs er með aðstöðu í Þórsstúkunni og er gengið inn um hlið að vestanverðu þ.e. á sama stað og og gengið er inn í áhorfendastúkuna á knattspyrnuleikjum og svo inn um dyr á næst ysta húsinu.
URL:https://kraftur.org/vidburdur/nordankraftur-pila/
LOCATION:Laugargata\, Akureyri\, Laugargata\, Akureyri\, 600\, Iceland
ATTACH;FMTTYPE=image/jpeg:https://kraftur.org/wp-content/uploads/2019/09/Banner_pila_nordankraftur.jpg
END:VEVENT
END:VCALENDAR