BEGIN:VCALENDAR
VERSION:2.0
PRODID:-//Kraftur - ECPv6.15.15//NONSGML v1.0//EN
CALSCALE:GREGORIAN
METHOD:PUBLISH
X-ORIGINAL-URL:https://kraftur.org
X-WR-CALDESC:Viðburðir í Kraftur
REFRESH-INTERVAL;VALUE=DURATION:PT1H
X-Robots-Tag:noindex
X-PUBLISHED-TTL:PT1H
BEGIN:VTIMEZONE
TZID:UTC
BEGIN:STANDARD
TZOFFSETFROM:+0000
TZOFFSETTO:+0000
TZNAME:UTC
DTSTART:20190101T000000
END:STANDARD
END:VTIMEZONE
BEGIN:VEVENT
DTSTART;VALUE=DATE:20200327
DTEND;VALUE=DATE:20200330
DTSTAMP:20260425T135909
CREATED:20200228T084149Z
LAST-MODIFIED:20200228T084149Z
UID:1247406-1585267200-1585526399@kraftur.org
SUMMARY:Skíðaferð Krafts - Akureyri - FELLUR NIÐUR
DESCRIPTION:Kraftur leggur leið sína norður á Akureyri á skíði helgina 27. til 29. mars. Kraftur mun bjóða félagsmönnum að koma með en fyrstur kemur fyrstur fær reglan gildir\, þar sem takmarkað pláss er í boði og því borgar sig að skrá sig strax. \nGist verður í húsinu við Glerá í sannkölluðum sumarbústaðarfýling. Við munum fá tilboð á góðum veitingastöðum svo við getum farið saman að borða. Síðan verðum við með Pub-Quiz á laugardagskvöldið. \nStaðfestingargjald er 2.500 krónur á fullorðna\, börn undir 18 ára fá að koma frítt með en við skráningu þurfum við þó að vita fjölda barna. Skráning fer fram hér. \nInnifalið í ferðinni er rúta norður\, gisting og morgunmatur og skíðapassi í fjallið ásamt búnaður til leigu fyrir þá sem þurfa. Skráning er nauðsynleg og biðjum við þig að fylla út formið svo við vitum fjölda sem fyrst þar sem takmarkað pláss er í boði. \nEf þú ert búsett(ur) fyrir norðan og ert þar með gistingu eða langar að koma á eigin vegum að hitta okkur þá væri náttúrulega frábært að sjá þig en þú verður að skrá þig upp á að við vitum með fjölda í fjallið 🙂 \nEf þú vilt getur þú alltaf pantað þér kennslu á eigin vegum í Hlíðarfjalli.
URL:https://kraftur.org/vidburdur/skidaferd-krafts-akureyri/
LOCATION:Akureyri\, Akureyri\, Akureyri\, Akureyri\, 600\, Iceland
ATTACH;FMTTYPE=image/jpeg:https://kraftur.org/wp-content/uploads/2019/09/Bannerar_mars_skidafed.jpg
END:VEVENT
BEGIN:VEVENT
DTSTART;TZID=UTC:20200329T120000
DTEND;TZID=UTC:20200329T160000
DTSTAMP:20260425T135909
CREATED:20200303T160454Z
LAST-MODIFIED:20200303T160454Z
UID:1247504-1585483200-1585497600@kraftur.org
SUMMARY:Perlað af Krafti - FRESTAÐ
DESCRIPTION:Langar þig að leggja Krafti lið með því að perla armbönd til styrktar félaginu? \n\n\n \n\n\nVið munum halda perluviðburð í húsnæði Krabbameinsfélagsins Skógarhlið 8 sunnudaginn 29. mars. Þar getur þú og þínir komið og lagt hönd á perlu í lengri eða skemmri tíma og notið þess að gefa af þér en allur ágóði af sölu armbandanna rennur í starfsemi félagsins. Armböndin eru í svokölluðu norðurljósalitum með áletruninni „Lífið er núna“. \n\n\n \n\n\nVið verðum að sjálfsögðu með heitt á könnunni og hlökkum til að sjá þig.
URL:https://kraftur.org/vidburdur/perlad-af-krafti/
LOCATION:Kraftur  – Stuðningsfélag fyrir ungt fólk sem greinst hefur með krabbamein og aðstandendur\, Skógarhlíð 8\, Reykjavík\, Reykjavík\, 105\, Iceland
ATTACH;FMTTYPE=image/jpeg:https://kraftur.org/wp-content/uploads/2020/03/Banner_perlað-af-krafti_mars-2.jpg
END:VEVENT
END:VCALENDAR