BEGIN:VCALENDAR
VERSION:2.0
PRODID:-//Kraftur - ECPv6.15.15//NONSGML v1.0//EN
CALSCALE:GREGORIAN
METHOD:PUBLISH
X-WR-CALNAME:Kraftur
X-ORIGINAL-URL:https://kraftur.org
X-WR-CALDESC:Viðburðir í Kraftur
REFRESH-INTERVAL;VALUE=DURATION:PT1H
X-Robots-Tag:noindex
X-PUBLISHED-TTL:PT1H
BEGIN:VTIMEZONE
TZID:UTC
BEGIN:STANDARD
TZOFFSETFROM:+0000
TZOFFSETTO:+0000
TZNAME:UTC
DTSTART:20190101T000000
END:STANDARD
END:VTIMEZONE
BEGIN:VEVENT
DTSTART;TZID=UTC:20200610T173000
DTEND;TZID=UTC:20200610T190000
DTSTAMP:20260425T201216
CREATED:20200602T114801Z
LAST-MODIFIED:20200602T114801Z
UID:1250439-1591810200-1591815600@kraftur.org
SUMMARY:FítonsYoga - útijóga
DESCRIPTION:Komdu í núið og mættu í fyrsta og síðasta jógtíma sumarsins\, en Pála ætlar að bjóða upp á þrjúhundraðasta jógatímann sinn úti undir berum himni\, miðvikudaginn 10. júní kl. 17:30 í Grasagarðinum. \nVið ætlum að hittast við vatnslistaverkið í Grasagarðinum í Laugardal og þaðan ætlar Pála að fylgja okkur inn í jógað. \nEina sem þú þarft ert þú sjálf/ur og föt sem þægilegt er að hreyfa sig í. Dýnur verða á staðnum\, en þú mátt að sjálfsögðu mæta með þína eigin. Námskeiðið er félagsmönnum okkar að kostnaðarlausu og hentar öllum bæði byrjendum og lengra komnum. \nPála Margrét hefur lokið 500 klst. jógakennaranámi í Tælandi. Hún hefur sjálf notað jóga til að sigrast á vefjagigt og nýtist sú reynsla henni við kennsluna. \nVið hvetjum alla félagsmenn til að mæta og um leið kveðja hana Pálu sem ætlar að taka sér smá hvíld frá jógakennslunni og einbeita sér að nýjum verkefnum. \nMeldaðu þig á viðburðinn hér
URL:https://kraftur.org/vidburdur/fitonsyoga-utijoga/
LOCATION:Flóra\, Iceland
ATTACH;FMTTYPE=image/jpeg:https://kraftur.org/wp-content/uploads/2020/06/Banner_juni_fitons-yoga_uti.jpg
END:VEVENT
END:VCALENDAR