BEGIN:VCALENDAR
VERSION:2.0
PRODID:-//Kraftur - ECPv6.15.15//NONSGML v1.0//EN
CALSCALE:GREGORIAN
METHOD:PUBLISH
X-ORIGINAL-URL:https://kraftur.org
X-WR-CALDESC:Viðburðir í Kraftur
REFRESH-INTERVAL;VALUE=DURATION:PT1H
X-Robots-Tag:noindex
X-PUBLISHED-TTL:PT1H
BEGIN:VTIMEZONE
TZID:UTC
BEGIN:STANDARD
TZOFFSETFROM:+0000
TZOFFSETTO:+0000
TZNAME:UTC
DTSTART:20190101T000000
END:STANDARD
END:VTIMEZONE
BEGIN:VEVENT
DTSTART;TZID=UTC:20200613T110000
DTEND;TZID=UTC:20200613T130000
DTSTAMP:20260425T213420
CREATED:20200604T110620Z
LAST-MODIFIED:20200604T110620Z
UID:1250607-1592046000-1592053200@kraftur.org
SUMMARY:Lífkraftsgangan með gönguhópnum Að klífa brattann
DESCRIPTION:Kraftsfélagar ælta að sína stuðning í verki og ganga Búrfellsgjánna til stuðnings Lífskrafti\, öflugum hópi kvenna\, sem ætla að þvera Vatnajökul á gönguskíðum til stuðnings Krafts og Líf. \nVið hvetjum alla kraftsfélaga\, fjölskyldur þeirra\, börn og vini að fjölmenna í þessa göngu og sína þar með stuðning í verki. Þú þarft ekki að vera félagsmaður í Krafti til að taka þátt í þessari göngu. \nEndilega meldaður þig á viðburðinn hér. \nEkið er Ellivatnsvegi og beygt inn á Heiðmerkurveg. þar er keyrt meðfram Vífilsstaðahlíð í átt að Hjöllum. Rétt áður en þangað er komið\, stuttu eftir að malbiki sleppir er bílastæði á hægri hönd. Þar munum við hittast og hefja göngu. \nSkemmtileg og þægileg gönguleið sem sýnir okkur hversu fallegan svip jarðhræringar setja á náttúru okkar. Í raun einstök gönguleið. Gangan er að mestu á láglendi. Búrfell er 179 metrar á hæð og gígurinn sjálfur er 140 metrar í þvermál. Dýpstur er hann 58 metrar og grynnstur 26 metrar. Útsýni er fínt\, við horfum yfir Húsfell\, Valahnúka og Helgafell\, Kaldársel og Vífilsstaðahlíð. \nFalleg náttúra og skemmtileg ganga fyrir fyrir alla til að geta tekið þátt. Gott er að taka með sér nesti eða einhverjar hressingu. \nAð klífa brattann er gönguhópur sem Kraftskonan Ragnheiður Guðmundsdóttir leiðir en hún hefur notað útivist og fjallgöngur sér til endurhæfingar og sjálfseflingar í veikindum sínum. Göngurnar henta öllum þeim sem hafa áhuga á að kynna sér göngur og íslenska náttúru og njóta þess að vera í hópi meðal jafningja. \nRagnheiður (sími: 663-9360)\nÞú getur fylgst með okkur á Facebook og beðið um inngöngu í hópinn hér:
URL:https://kraftur.org/vidburdur/lifkraftsgangan-med-gonguhopnum-ad-klifa-brattann/
LOCATION:Búrfellsgjá\, Iceland
ATTACH;FMTTYPE=image/jpeg:https://kraftur.org/wp-content/uploads/2020/06/Banner_ad_klifa_brattann.jpg
END:VEVENT
END:VCALENDAR