BEGIN:VCALENDAR
VERSION:2.0
PRODID:-//Kraftur - ECPv6.15.15//NONSGML v1.0//EN
CALSCALE:GREGORIAN
METHOD:PUBLISH
X-ORIGINAL-URL:https://kraftur.org
X-WR-CALDESC:Viðburðir í Kraftur
REFRESH-INTERVAL;VALUE=DURATION:PT1H
X-Robots-Tag:noindex
X-PUBLISHED-TTL:PT1H
BEGIN:VTIMEZONE
TZID:UTC
BEGIN:STANDARD
TZOFFSETFROM:+0000
TZOFFSETTO:+0000
TZNAME:UTC
DTSTART:20190101T000000
END:STANDARD
END:VTIMEZONE
BEGIN:VEVENT
DTSTART;TZID=UTC:20200602T173000
DTEND;TZID=UTC:20200602T183000
DTSTAMP:20260426T021747
CREATED:20200602T114252Z
LAST-MODIFIED:20200602T114252Z
UID:1250427-1591119000-1591122600@kraftur.org
SUMMARY:Útiæfing hjá FítonsKrafti
DESCRIPTION:FítonsKraftur er endurhæfing í formi hreyfingar og útivistar fyrir ungt fólk sem greinst hefur með krabbamein. Æfingarnar eru tvisvar í viku undir handleiðslu Atla Más Sveinssonar íþróttafræðings. \nNú í júní verða FítonsKraftsæfingar haldnar utandyra og er staðsetning auglýsing á Facebook síðu æfingahópsins. \nFrekari upplýsingar og skráning í FítonsKraft má finna hér.
URL:https://kraftur.org/vidburdur/utiaefingar-hja-fitonskrafti/
ATTACH;FMTTYPE=image/jpeg:https://kraftur.org/wp-content/uploads/2019/08/Banner_FitonsKrafturBW.jpg
END:VEVENT
END:VCALENDAR