BEGIN:VCALENDAR
VERSION:2.0
PRODID:-//Kraftur - ECPv6.15.15//NONSGML v1.0//EN
CALSCALE:GREGORIAN
METHOD:PUBLISH
X-WR-CALNAME:Kraftur
X-ORIGINAL-URL:https://kraftur.org
X-WR-CALDESC:Viðburðir í Kraftur
REFRESH-INTERVAL;VALUE=DURATION:PT1H
X-Robots-Tag:noindex
X-PUBLISHED-TTL:PT1H
BEGIN:VTIMEZONE
TZID:UTC
BEGIN:STANDARD
TZOFFSETFROM:+0000
TZOFFSETTO:+0000
TZNAME:UTC
DTSTART:20190101T000000
END:STANDARD
END:VTIMEZONE
BEGIN:VEVENT
DTSTART;TZID=UTC:20200815T110000
DTEND;TZID=UTC:20200815T130000
DTSTAMP:20260426T004422
CREATED:20200727T105801Z
LAST-MODIFIED:20200727T105801Z
UID:1251668-1597489200-1597496400@kraftur.org
SUMMARY:Að klífa brattann - Reynisvatn
DESCRIPTION:Laugardaginn\, 15. ágúst\, ætlum við í skemmtilega göngu í kringum Reynisvatn og Hólmsheiði við Grafarholt. Falleg og skemmtileg leið sem er á flestra færi. Gengið verður í kringum vatnið og í fallegu skógarrjóðri við vatnið. Gangan tekur um klukkustund.  Komum saman og njótum þess að vera úti að hreyfa okkur í fallegri náttúru í útjaðri Reykjavíkur. \nVið munum hittast á bílastæðinu rétt við Reynisvatn  – nánar tiltekið þessu bílastæði hér  \nAð klífa brattann er gönguhópur fyrir krabbameinsgreinda og aðstandendur sem Kraftskonurnar Ragnheiður Guðmundsdóttir leiðir en  hún hefur notað útivist og fjallgöngur sér til endurhæfingar og sjálfseflingar í veikindum sínum. \nGöngurnar henta öllum þeim sem hafa áhuga á að kynna sér göngur og íslenska náttúru og njóta þess að vera í hópi meðal jafningja. \nKraftsfélagar\, fjölskyldur þeirra\, börn og vinir eru hjartanlega velkomin. Endilega meldið ykkur á Facebook viðburðinum \nRagnheiður (sími: 663-9360)
URL:https://kraftur.org/vidburdur/ad-klifa-brattann-reynisvatn/
LOCATION:Reynisvatn\, Reynisvatnsvegur\, Reykjavik\, 113\, Iceland
ATTACH;FMTTYPE=image/jpeg:https://kraftur.org/wp-content/uploads/2020/06/Banner_ad_klifa_brattann.jpg
END:VEVENT
END:VCALENDAR