BEGIN:VCALENDAR
VERSION:2.0
PRODID:-//Kraftur - ECPv6.15.15//NONSGML v1.0//EN
CALSCALE:GREGORIAN
METHOD:PUBLISH
X-WR-CALNAME:Kraftur
X-ORIGINAL-URL:https://kraftur.org
X-WR-CALDESC:Viðburðir í Kraftur
REFRESH-INTERVAL;VALUE=DURATION:PT1H
X-Robots-Tag:noindex
X-PUBLISHED-TTL:PT1H
BEGIN:VTIMEZONE
TZID:UTC
BEGIN:STANDARD
TZOFFSETFROM:+0000
TZOFFSETTO:+0000
TZNAME:UTC
DTSTART:20190101T000000
END:STANDARD
END:VTIMEZONE
BEGIN:VEVENT
DTSTART;TZID=UTC:20200826T173000
DTEND;TZID=UTC:20200826T190000
DTSTAMP:20260425T230852
CREATED:20200727T112304Z
LAST-MODIFIED:20200727T112304Z
UID:1251675-1598463000-1598468400@kraftur.org
SUMMARY:AðstandendaKraftur - Hvað getum við gert fyrir þig?
DESCRIPTION:Miðvikudaginn 26.ágúst klukkan 17:30 ætlum við að koma saman og hlusta á nokkra frábæra félagsmenn deila sinni reynslu og hvaða bjargráð þeir hafa tileinkað sér í ferlinu. \nÞessi fyrsti hittngur eftir Covid verður því tileinkaður okkur\, við ætlum að eiga rólega stund í húsnæði Ráðgjafaþjónustunnar og kynnast betur og ætlum við að enda kvöldið á opnum umræðum þar sem öllum þeim sem vilja\, fá tækifæri til að kynna sig og deila sinni reynslu. \nVið þekkjum það öll sem lendum í þessum sporum hversu ómetanlegt það getur verið að tala við aðra sem hafa verið í svipuðum sporum\, AðstandendaKraftur var stofnaður af aðstandendum fyrir aðstandendur og hvetjum við alla til að mæta. \nÁttu eða hefur þú átt ástvin sem greinst hefur með krabbamein? Ef þú ert maki eða náinn aðstandandi getur það haft í för með sér verulegar breytingar á þínu lífi þar sem ýmsar spurningar geta vaknað og getur verið erfitt að vera til staðar fyrir þig og aðra á sama tíma. Það eru fleiri í þínum sporum. \nKomdu á opið kvöld hjá AðstandendaKrafti. Við verðum í Ráðgjafarþjónustu Krabbameinsfélagsins\, Skógarhlíð 8. Boðið verður upp á léttar veitingar. \nEndilega meldaðu þig á Facebook\nHlökkum til að sjá þig.
URL:https://kraftur.org/vidburdur/adstandendakraftur/
LOCATION:Kraftur  – Stuðningsfélag fyrir ungt fólk sem greinst hefur með krabbamein og aðstandendur\, Skógarhlíð 8\, Reykjavík\, Reykjavík\, 105\, Iceland
ATTACH;FMTTYPE=image/jpeg:https://kraftur.org/wp-content/uploads/2019/09/Banner_adstandandaKraftur.jpg
END:VEVENT
END:VCALENDAR