BEGIN:VCALENDAR
VERSION:2.0
PRODID:-//Kraftur - ECPv6.15.15//NONSGML v1.0//EN
CALSCALE:GREGORIAN
METHOD:PUBLISH
X-WR-CALNAME:Kraftur
X-ORIGINAL-URL:https://kraftur.org
X-WR-CALDESC:Viðburðir í Kraftur
REFRESH-INTERVAL;VALUE=DURATION:PT1H
X-Robots-Tag:noindex
X-PUBLISHED-TTL:PT1H
BEGIN:VTIMEZONE
TZID:UTC
BEGIN:STANDARD
TZOFFSETFROM:+0000
TZOFFSETTO:+0000
TZNAME:UTC
DTSTART:20190101T000000
END:STANDARD
END:VTIMEZONE
BEGIN:VEVENT
DTSTART;TZID=UTC:20200907T200000
DTEND;TZID=UTC:20200907T220000
DTSTAMP:20260426T021905
CREATED:20200831T103330Z
LAST-MODIFIED:20200831T103330Z
UID:1252253-1599508800-1599516000@kraftur.org
SUMMARY:StelpuKraftur - Stuðningshópur
DESCRIPTION:Þegar maður er ungur og greinist með krabbamein skiptir svo miklu máli að vita hvert maður getur leitað og maður standi ekki einn í baráttunni.\n\n\nStelpuKraftur er stuðningshópur fyrir ungar konur á aldrinum 18 – 45 ára sem greinst hafa með krabbamein. Hópurinn hittist annan hvern mánudag kl. 17 ýmist í húskynnum Krafts\, Skógarhlíð 8\, eða annarsstaðar. \nDagskrá – september\nMán. 7. september – Hittingur í Skógarhlíðinni\n\nVið ætlum að njóta þess að hittast í Skógarhlíðinni og eiga huggulega stund saman á nýja árinu. Hittumst í húsnæði Ráðgjafarþjónustunnar í Skógarhlíð 8.\n\nMán. 21. september – Hittingur í Skógarhlíðinni\n\nStaður og stund auglýst síðar\n\nUmsjón með hópnum hefur\, Elín Kristín Klar\, ráðgjafi\, og Hulda Hjálmarsdóttir\, starfsmaður og félagsmaður hjá Krafti. \nFrekari upplýsingar og hægt að óska eftir inngöngu í FB – hóp StelpuKrafts. 
URL:https://kraftur.org/vidburdur/stelpukraftur-studningshopur-5/
LOCATION:Kraftur  – Stuðningsfélag fyrir ungt fólk sem greinst hefur með krabbamein og aðstandendur\, Skógarhlíð 8\, Reykjavík\, Reykjavík\, 105\, Iceland
ATTACH;FMTTYPE=image/jpeg:https://kraftur.org/wp-content/uploads/2020/06/Banner_stelpuKraftur_studningshopur.jpg
END:VEVENT
END:VCALENDAR