BEGIN:VCALENDAR
VERSION:2.0
PRODID:-//Kraftur - ECPv6.15.15//NONSGML v1.0//EN
CALSCALE:GREGORIAN
METHOD:PUBLISH
X-WR-CALNAME:Kraftur
X-ORIGINAL-URL:https://kraftur.org
X-WR-CALDESC:Viðburðir í Kraftur
REFRESH-INTERVAL;VALUE=DURATION:PT1H
X-Robots-Tag:noindex
X-PUBLISHED-TTL:PT1H
BEGIN:VTIMEZONE
TZID:UTC
BEGIN:STANDARD
TZOFFSETFROM:+0000
TZOFFSETTO:+0000
TZNAME:UTC
DTSTART:20190101T000000
END:STANDARD
END:VTIMEZONE
BEGIN:VEVENT
DTSTART;TZID=UTC:20201020T170000
DTEND;TZID=UTC:20201020T181500
DTSTAMP:20260425T183748
CREATED:20200727T120839Z
LAST-MODIFIED:20200727T120839Z
UID:1252103-1603213200-1603217700@kraftur.org
SUMMARY:Útiæfing hjá FítonsKrafti - FELLUR NIÐUR
DESCRIPTION:Æfingar hjá FítonsKrafti falla niður tímabundið vegna samkomutakmarkana sem nú eru í gildi.  \nFítonsKraftur er endurhæfing í formi hreyfingar og útivistar fyrir ungt fólk sem greinst hefur með krabbamein. \nVegna breyttra aðstæðna verðum við nú með útiæfingar þar sem við getum fylgt sóttvarnarreglum. \nÆfingar verða sem sé 2x í viku undir handleiðslu Atla Más Sveinssonar íþróttafræðings og hann mun setja inn á Facebook síðu hópsins upplýsingar um hvar skulu hittast fyrir hverja æfingu \nEf þú vilt skrá þig í FítonsKraft þá eru frekari upplýsingar og skráningu að finna hér.
URL:https://kraftur.org/vidburdur/aefing-hja-fitonskrafti-8-2020-10-20/
LOCATION:Heilsuklasinn\, Bíldshöfða 9\, Reykjavík\, 110\, Iceland
ATTACH;FMTTYPE=image/jpeg:https://kraftur.org/wp-content/uploads/2019/08/Banner_FitonsKrafturBW.jpg
END:VEVENT
END:VCALENDAR