BEGIN:VCALENDAR
VERSION:2.0
PRODID:-//Kraftur - ECPv6.15.15//NONSGML v1.0//EN
CALSCALE:GREGORIAN
METHOD:PUBLISH
X-WR-CALNAME:Kraftur
X-ORIGINAL-URL:https://kraftur.org
X-WR-CALDESC:Viðburðir í Kraftur
REFRESH-INTERVAL;VALUE=DURATION:PT1H
X-Robots-Tag:noindex
X-PUBLISHED-TTL:PT1H
BEGIN:VTIMEZONE
TZID:UTC
BEGIN:STANDARD
TZOFFSETFROM:+0000
TZOFFSETTO:+0000
TZNAME:UTC
DTSTART:20190101T000000
END:STANDARD
END:VTIMEZONE
BEGIN:VEVENT
DTSTART;TZID=UTC:20201118T200000
DTEND;TZID=UTC:20201118T211500
DTSTAMP:20260425T120401
CREATED:20201104T110427Z
LAST-MODIFIED:20201104T110427Z
UID:1253383-1605729600-1605734100@kraftur.org
SUMMARY:Fræðslufyrirlestur - Af hverju á ég að fara út?
DESCRIPTION:Skelltu þér á skemmtilegan og fræðandi fyrirlestur þar sem Jakob hjá KVAN fer yfir hversu mikilvægt það er að fara út\, hreyfa sig og anda að sér fersku lofti. \nJakob verður með frábæra netstund með okkur miðvikudaginn 18. nóvember klukkan 20.00. Í erindinu verður fjallað um ýmsa þætti sem tengjast útiveru\, útivist og náttúru. Fjallað um áhrifum á andlega og líkamlega heilsu\, velferð og lífsgæði\, hverjar eru helstu hindranir og hvað við getum gert til að yfirstíga þær og fundið útiveru sem hentar okkur og fjölskyldunni.\nFjallað verður um rannsóknir á þessi svið á Íslandi og erlendis\, sagðar sögur og velt upp hvernig við getum staðnæmst og gætt tilveru okkar nýrri reynslu. \nJakob Frímann Þorsteinsson starfar hjá KVAN og hjá Háskóla Íslands þar sem hann stundar rannsóknir og kennslu á útimenntun\, námi og tómstundafræði. \nEf litið væri á „börn að leik úti“ sem dýrategund\, þá værum við líklega búin að setja þau á válista yfir dýrategundir í útrýmingarhættu!\nTim Gill \nEkki missa af þessum fræðandi fyrirlestri sem er öllum opinn og er án endurgjalds. En þú þarft að skrá þig hér\nsvo við getum sent þér Teams-hlekk þegar nær dregur.
URL:https://kraftur.org/vidburdur/fraedslufyrirlestur-af-hverju-eg-ad-fara-ut/
ATTACH;FMTTYPE=image/jpeg:https://kraftur.org/wp-content/uploads/2020/11/Banner_nov_Af_hverju_út_web-scaled.jpg
END:VEVENT
END:VCALENDAR