BEGIN:VCALENDAR
VERSION:2.0
PRODID:-//Kraftur - ECPv6.15.15//NONSGML v1.0//EN
CALSCALE:GREGORIAN
METHOD:PUBLISH
X-WR-CALNAME:Kraftur
X-ORIGINAL-URL:https://kraftur.org
X-WR-CALDESC:Viðburðir í Kraftur
REFRESH-INTERVAL;VALUE=DURATION:PT1H
X-Robots-Tag:noindex
X-PUBLISHED-TTL:PT1H
BEGIN:VTIMEZONE
TZID:UTC
BEGIN:STANDARD
TZOFFSETFROM:+0000
TZOFFSETTO:+0000
TZNAME:UTC
DTSTART:20190101T000000
END:STANDARD
END:VTIMEZONE
BEGIN:VEVENT
DTSTART;TZID=UTC:20201203T193000
DTEND;TZID=UTC:20201203T213000
DTSTAMP:20260425T120354
CREATED:20201124T172755Z
LAST-MODIFIED:20201124T172755Z
UID:1254146-1607023800-1607031000@kraftur.org
SUMMARY:Jólastund í stofunni með Krafti
DESCRIPTION:Hó hó hó \nAðventukvöld Krafts verður haldið í stafrænum heimum þetta árið þann 3.des. kl. 19:30 þar sem við ætlum að hittast saman í stofunni heima og eiga skemmtilega og notalega stund saman. Frábær stund fyrir alla fjölskylduna þar sem við komum saman og njótum þess að „sjá“ hvert annað og skemmta okkur. \n\nBingó fyrir alla fjölskylduna þar sem frábærir vinningar eru í boði frá góðum fyrirtækjum\nSpurningarleikur fyrir unga sem aldna\nJólasveinar og gleði\n\nNú er bara að skella piparkökum á disk\, útbúa heitt súkkulaði og mæta stundvíslega fyrir framan tölvuna. Þetta verður þvílík aðventugleði. Skráðu þig og þína til leiks svo við getum farið að skipuleggja gleðina. \nVið sendum svo út nánari upplýsingar þegar nær dregur varðandi lendingarsíðu og link. \nHlökkum til – Kraftsliðið! \n  \n 
URL:https://kraftur.org/vidburdur/jolastund-stofunni-med-krafti/
ATTACH;FMTTYPE=image/jpeg:https://kraftur.org/wp-content/uploads/2020/11/banner__jolastund_webb-scaled.jpg
END:VEVENT
END:VCALENDAR