BEGIN:VCALENDAR
VERSION:2.0
PRODID:-//Kraftur - ECPv6.15.15//NONSGML v1.0//EN
CALSCALE:GREGORIAN
METHOD:PUBLISH
X-ORIGINAL-URL:https://kraftur.org
X-WR-CALDESC:Viðburðir í Kraftur
REFRESH-INTERVAL;VALUE=DURATION:PT1H
X-Robots-Tag:noindex
X-PUBLISHED-TTL:PT1H
BEGIN:VTIMEZONE
TZID:UTC
BEGIN:STANDARD
TZOFFSETFROM:+0000
TZOFFSETTO:+0000
TZNAME:UTC
DTSTART:20200101T000000
END:STANDARD
END:VTIMEZONE
BEGIN:VEVENT
DTSTART;TZID=UTC:20210116T110000
DTEND;TZID=UTC:20210116T123000
DTSTAMP:20260423T075148
CREATED:20210104T152529Z
LAST-MODIFIED:20210104T152529Z
UID:1255400-1610794800-1610800200@kraftur.org
SUMMARY:Að klífa brattann - Rauðavatn
DESCRIPTION:Laugardaginn 16. janúar\, ætlum við í skemmtilega nýárs göngu í kringum Rauðavatn. Falleg og skemmtileg leið sem er á flestra færi. Gengið verður í kringum vatnið þar sem stígar eru á jafnsléttu og lítið um hækkun\, en gott að hafa í huga að hluti gönguleiðarinnar er á malarstíg þar sem er nokkur hækkun\, og þvi gott að vera í góðum skóm. Gangan tekur um klukkustund. Komum saman og njótum þess að vera úti að hreyfa okkur í fallegri vetrarnáttúru í útjaðri Reykjavíkur. \nVið munum hittast á bílastæðinu hjá Olís við Suðurlandsveg þar sem er nóg af bílastæðum. \nVið hjá Krafti viljum að allir fari eftir fyrirmælum Almannavarna og minnum ykkur því á að virða 2 metra regluna. \nAð klífa brattann er gönguhópur fyrir krabbameinsgreinda og aðstandendur sem Kraftskonurnar Ragnheiður Guðmundsdóttir leiðir en hún hefur notað útivist og fjallgöngur sér til endurhæfingar og sjálfseflingar í veikindum sínum. \nGöngurnar henta öllum þeim sem hafa áhuga á að kynna sér göngur og íslenska náttúru og njóta þess að vera í hópi meðal jafningja. \nKraftsfélagar\, fjölskyldur þeirra\, börn og vinir eru hjartanlega velkomin. Endilega meldið ykkur á Facebook viðburðinum \nHægt er að ná í Ragnheiði í síma: 663-9360
URL:https://kraftur.org/vidburdur/ad-klifa-brattann-raudavatn/
LOCATION:Olís við Rauðavatn\, Norðlingabraut 7\, Reykjavík\, 110\, Iceland
ATTACH;FMTTYPE=image/jpeg:https://kraftur.org/wp-content/uploads/2020/06/Banner_ad_klifa_brattann.jpg
END:VEVENT
END:VCALENDAR