BEGIN:VCALENDAR
VERSION:2.0
PRODID:-//Kraftur - ECPv6.15.15//NONSGML v1.0//EN
CALSCALE:GREGORIAN
METHOD:PUBLISH
X-WR-CALNAME:Kraftur
X-ORIGINAL-URL:https://kraftur.org
X-WR-CALDESC:Viðburðir í Kraftur
REFRESH-INTERVAL;VALUE=DURATION:PT1H
X-Robots-Tag:noindex
X-PUBLISHED-TTL:PT1H
BEGIN:VTIMEZONE
TZID:UTC
BEGIN:STANDARD
TZOFFSETFROM:+0000
TZOFFSETTO:+0000
TZNAME:UTC
DTSTART:20200101T000000
END:STANDARD
END:VTIMEZONE
BEGIN:VEVENT
DTSTART;TZID=UTC:20210220T110000
DTEND;TZID=UTC:20210220T123000
DTSTAMP:20260423T062141
CREATED:20210131T141015Z
LAST-MODIFIED:20210131T141015Z
UID:1260161-1613818800-1613824200@kraftur.org
SUMMARY:Að klífa brattann - Úlfarsfell
DESCRIPTION:Laugardaginn 20. febrúar\, ætlum við í skemmtilega göngu upp á Úlfarsfell. Fjöldi gönguleiða er upp á Úlfarsfell og er það eitt vinsælasta fjallið á höfuðborgarsvæðinu. Af toppnum er fallegt útsýni yfir Reykjavík og nágrenni. Gangan tekur um klukkustund og er fjallið 296 metra hátt. Komum saman og njótum þess að vera úti að hreyfa okkur í fallegri náttúru á mörkum Reykjavíkur og Mosfellsbæjar. \nVið munum hittast á bílastæðinu við Úlfarsfell við Úlfarsfellsveg og mælum við eindregið með esjubroddum því það getur verið hált á leiðinni. \nVið hjá Krafti viljum að allir fari eftir fyrirmælum Almannavarna og minnum ykkur því á að virða 2 metra regluna. \nAð klífa brattann er gönguhópur fyrir krabbameinsgreinda og aðstandendur sem Kraftskonurnar Ragnheiður Guðmundsdóttir leiðir en hún hefur notað útivist og fjallgöngur sér til endurhæfingar og sjálfseflingar í veikindum sínum. \nGöngurnar henta öllum þeim sem hafa áhuga á að kynna sér göngur og íslenska náttúru og njóta þess að vera í hópi meðal jafningja. \nKraftsfélagar\, fjölskyldur þeirra\, börn og vinir eru hjartanlega velkomin. Endilega meldið ykkur á Facebook viðburðinum \nHægt er að ná í Ragnheiði í síma: 663-9360
URL:https://kraftur.org/vidburdur/ad-klifa-brattann-ulfarsfell-3/
LOCATION:Úlfarsfell\, Bílastæðið Hafravatnsmeginn\, Iceland
ATTACH;FMTTYPE=image/jpeg:https://kraftur.org/wp-content/uploads/2020/06/Banner_ad_klifa_brattann.jpg
END:VEVENT
END:VCALENDAR