BEGIN:VCALENDAR
VERSION:2.0
PRODID:-//Kraftur - ECPv6.15.15//NONSGML v1.0//EN
CALSCALE:GREGORIAN
METHOD:PUBLISH
X-ORIGINAL-URL:https://kraftur.org
X-WR-CALDESC:Viðburðir í Kraftur
REFRESH-INTERVAL;VALUE=DURATION:PT1H
X-Robots-Tag:noindex
X-PUBLISHED-TTL:PT1H
BEGIN:VTIMEZONE
TZID:UTC
BEGIN:STANDARD
TZOFFSETFROM:+0000
TZOFFSETTO:+0000
TZNAME:UTC
DTSTART:20190101T000000
END:STANDARD
END:VTIMEZONE
BEGIN:VEVENT
DTSTART;TZID=UTC:20210222T170000
DTEND;TZID=UTC:20210222T210000
DTSTAMP:20260423T062541
CREATED:20200204T165547Z
LAST-MODIFIED:20200204T165547Z
UID:1246751-1614013200-1614027600@kraftur.org
SUMMARY:Stuðningsfulltrúanámskeið
DESCRIPTION:Stuðningsfulltrúanámskeið fyrir verðandi stuðningsfulltrúa í Stuðningsnetinu verður haldið í tveimur pörtum mánudagana 22.febrúar og 1. mars\, frá klukkan 17:00 til 21:00. Námskeiðið verður haldið í sal Ráðgjafarþjónustunnar á fyrstu hæð í húsnæði Krabbameinsfélagsins\, Skógarhlíð 8. Boðið verður upp á kvöldmat bæði kvöldin í boði Krafts og Ráðgjafarþjónustu Krabbameinsfélagsins sem starfrækja Stuðningsnetið. \nNámskeiðið er bæði ætlað þeim sem hafa greinst með krabbamein og hafa lokið við krabbameinsmeðferð sem og aðstandendum\, sem vilja styðja við einstaklinga sem eru í svipuðum sporum. \nTil að taka þátt á námskeiðinu þarf að skrá sig á netfanginu salfraedingur@kraftur.org eða með því að fylla út þetta skráningarform. \nFrekari upplýsingar má sjá hér. \n„Það sem hjálpaði mest var að hitta aðra sem höfðu lent í svipuðum sporum\, Kraftur bjargaði geðheilsunni minni….“ \n26 ára félagsmaður sem greindist með ristilkrabbamein
URL:https://kraftur.org/vidburdur/studningsfulltruanamskeid-studningsnetid-2/
LOCATION:Kraftur  – Stuðningsfélag fyrir ungt fólk sem greinst hefur með krabbamein og aðstandendur\, Skógarhlíð 8\, Reykjavík\, Reykjavík\, 105\, Iceland
ATTACH;FMTTYPE=image/jpeg:https://kraftur.org/wp-content/uploads/2020/02/studningsnetid_Facebook_event-cover-2.jpg
END:VEVENT
BEGIN:VEVENT
DTSTART;TZID=UTC:20210222T200000
DTEND;TZID=UTC:20210222T210000
DTSTAMP:20260423T062541
CREATED:20210201T133959Z
LAST-MODIFIED:20210201T133959Z
UID:1260494-1614024000-1614027600@kraftur.org
SUMMARY:NorðanKraftur - Gönguskíði
DESCRIPTION:Mánudaginn 22.febrúar ætlar  Kristin Þráinn að kenna okkur grunninn í gönguskíða íþróttinni.\n  \nBoðið verður upp á leigu á skíðum. Hvetjum alla til að mæta hvort sem þeir eru byrjendur eða lengra komnir. \n  \nEndilega meldið ykkur á viðburðinn okkar á hér. \nNorðanKraftur er stuðningshópur fyrir ungt fólk (18 til 45 ára) sem greinst hefur með krabbamein og aðstandendur. Hópurinn er starfræktur frá Akureyri og umsjón með hópnum hefur Tinna Stefánsdóttir\, starfsmaður og félagsmaður hjá Krafti. \nFrekari upplýsingar eru inn á hópi NorðanKrafts – Hægt er að óska eftir inngöngu í hópinn hér.
URL:https://kraftur.org/vidburdur/nordankraftur-gonguskidi/
LOCATION:Akureyri\, Akureyri\, Akureyri\, Akureyri\, 600\, Iceland
ATTACH;FMTTYPE=image/jpeg:https://kraftur.org/wp-content/uploads/2021/01/Bannera_NordanKraftur_1.jpg
END:VEVENT
BEGIN:VEVENT
DTSTART;TZID=UTC:20201005T200000
DTEND;TZID=UTC:20201005T220000
DTSTAMP:20260423T062541
CREATED:20200929T153114Z
LAST-MODIFIED:20200929T153114Z
UID:1252890-1601928000-1601935200@kraftur.org
SUMMARY:StelpuKraftur - stuðningshópur
DESCRIPTION:StelpuKraftur er stuðningshópur fyrir ungar konur á aldrinum 18 – 45 ára sem greinst hafa með krabbamein. Hópurinn hittist annan hvern mánudag kl. 20 ýmist í húskynnum Krafts\, Skógarhlíð 8\, eða annarsstaðar. \nDagskrá – apríl\nÞriðjudagur 6.apríl – Rafrænn hittingur\n\nHittumst í rafrænum heimi og spjöllum um heima og geima\nAuglýst nánar inn á FB hóp StelpuKrafts\n\nMán. 19.apríl– hittingur annað hvort rafrænn eða í skógarhlíð\n\nHittingur í stafrænum heimum eða ef samkomutakmarkanir verða rýmkaðar í húsakynnum Krafts\, Skógarhlíð 8\nAuglýst nánar inn á FB hóp StelpuKrafts\n\nUmsjón með hópnum hefur Hulda Hjálmarsdóttir\, starfsmaður og félagsmaður hjá Krafti. \nFrekari upplýsingar og hægt að óska eftir inngöngu í FB – hóp StelpuKrafts.  \nÞegar maður er ungur og greinist með krabbamein skiptir svo miklu máli að vita hvert maður getur leitað og maður standi ekki einn í baráttunni.
URL:https://kraftur.org/vidburdur/stelpukraftur-studningshopur-6/
LOCATION:Kraftur  – Stuðningsfélag fyrir ungt fólk sem greinst hefur með krabbamein og aðstandendur\, Skógarhlíð 8\, Reykjavík\, Reykjavík\, 105\, Iceland
ATTACH;FMTTYPE=image/jpeg:https://kraftur.org/wp-content/uploads/2020/06/Banner_stelpuKraftur_studningshopur.jpg
END:VEVENT
END:VCALENDAR