BEGIN:VCALENDAR
VERSION:2.0
PRODID:-//Kraftur - ECPv6.15.15//NONSGML v1.0//EN
CALSCALE:GREGORIAN
METHOD:PUBLISH
X-ORIGINAL-URL:https://kraftur.org
X-WR-CALDESC:Viðburðir í Kraftur
REFRESH-INTERVAL;VALUE=DURATION:PT1H
X-Robots-Tag:noindex
X-PUBLISHED-TTL:PT1H
BEGIN:VTIMEZONE
TZID:UTC
BEGIN:STANDARD
TZOFFSETFROM:+0000
TZOFFSETTO:+0000
TZNAME:UTC
DTSTART:20200101T000000
END:STANDARD
END:VTIMEZONE
BEGIN:VEVENT
DTSTART;TZID=UTC:20210202T170000
DTEND;TZID=UTC:20210202T181500
DTSTAMP:20260423T075751
CREATED:20210131T135110Z
LAST-MODIFIED:20210131T135110Z
UID:1260066-1612285200-1612289700@kraftur.org
SUMMARY:FítonsKraftur
DESCRIPTION:FítonsKraftur er endurhæfing í formi hreyfingar og útivistar fyrir ungt fólk sem greinst hefur með krabbamein. \nÆfingar eru í Heilsuklasanum 2x í viku undir handleiðslu Atla Más Sveinssonar íþróttafræðings. Frekari upplýsingar og skráning má finna hér. \nVið vekjum athygli á því að við bjóðum líka upp á Fjarþjálfun Krafts fyrir þá sem hafa ekki tök á að mæta í tímana með hópnum.
URL:https://kraftur.org/vidburdur/fitonskraftur/
LOCATION:Heilsuklasinn\, Bíldshöfða 9\, Reykjavík\, 110\, Iceland
ATTACH;FMTTYPE=image/jpeg:https://kraftur.org/wp-content/uploads/2019/08/Banner_FitonsKrafturBW.jpg
END:VEVENT
BEGIN:VEVENT
DTSTART;TZID=UTC:20210223T200000
DTEND;TZID=UTC:20210223T213000
DTSTAMP:20260423T075751
CREATED:20210131T162915Z
LAST-MODIFIED:20210131T162915Z
UID:1260194-1614110400-1614115800@kraftur.org
SUMMARY:AðstandendaKraftur - Rafrænn hittingur
DESCRIPTION:Þriðjudaginn 23. febrúar klukkan 20:00 ætlum við að koma saman í rafræna heiminu á Teams og hlusta á nokkra frábæra félagsmenn deila sinni reynslu og hvaða bjargráð þeir hafa tileinkað sér í ferlinu. \nÞessi hittingur verður því tileinkaður okkur\, við ætlum að eiga rólega stund og kynnast betur. Öllum er velkomið að henda fram hugsunum og pælingum og saman ætlum við að gefa hvert öðru tækifæri á að deila reynslu.\nVið þekkjum það öll sem lendum í þessum sporum hversu ómetanlegt það getur verið að tala við aðra sem hafa verið í svipuðum sporum\, AðstandendaKraftur var stofnaður af aðstandendum fyrir aðstandendur og hvetjum við alla til að mæta. \nÁttu eða hefur þú átt ástvin sem greinst hefur með krabbamein? Ef þú ert maki eða náinn aðstandandi getur það haft í för með sér verulegar breytingar á þínu lífi þar sem ýmsar spurningar geta vaknað og getur verið erfitt að vera til staðar fyrir þig og aðra á sama tíma. Það eru fleiri í þínum sporum. \nKomdu á opið kvöld hjá AðstandendaKrafti. Við verðum á Teams og til þess að hægt sé að bæta þér við viðburðinn þurfum við emailið þitt sem þú skráir hér.
URL:https://kraftur.org/vidburdur/adstandendakraftur-rafraenn-hittingur-2/
ATTACH;FMTTYPE=image/jpeg:https://kraftur.org/wp-content/uploads/2021/01/Banner_adstandandaKraftur.jpg
END:VEVENT
END:VCALENDAR