BEGIN:VCALENDAR
VERSION:2.0
PRODID:-//Kraftur - ECPv6.15.15//NONSGML v1.0//EN
CALSCALE:GREGORIAN
METHOD:PUBLISH
X-ORIGINAL-URL:https://kraftur.org
X-WR-CALDESC:Viðburðir í Kraftur
REFRESH-INTERVAL;VALUE=DURATION:PT1H
X-Robots-Tag:noindex
X-PUBLISHED-TTL:PT1H
BEGIN:VTIMEZONE
TZID:UTC
BEGIN:STANDARD
TZOFFSETFROM:+0000
TZOFFSETTO:+0000
TZNAME:UTC
DTSTART:20200101T000000
END:STANDARD
END:VTIMEZONE
BEGIN:VEVENT
DTSTART;TZID=UTC:20210310T200000
DTEND;TZID=UTC:20210310T210000
DTSTAMP:20260425T154021
CREATED:20210301T154757Z
LAST-MODIFIED:20210301T154757Z
UID:1268555-1615406400-1615410000@kraftur.org
SUMMARY:NorðanKraftur - stuðningshópur
DESCRIPTION:Það verður margt um að vera hjá NorðanKrafti í mars en NorðanKraftur er stuðningshópur fyrir ungt fólk (18 til 45 ára) sem greinst hefur með krabbamein og aðstandendur. Hópurinn er starfræktur frá Akureyri og umsjón með hópnum hefur Tinna Stefánsdóttir\, starfsmaður og félagsmaður hjá Krafti. \nDagskrá mars:\n  \n3.\,4. eða 5.mars – Við höldum áfram að reyna að komast á gönguskíði en hann Kristinn Þráinn ætlar að kenna okkur grunninn í gönguskíða íþróttinni – boðið verður upp á leigu á skíðum. Hvetjum alla til að mæta hvort sem þeir eru byrjendur eða lengra komnir. \n  \n10.mars – KAON ætlar að bjóða okkur í heimsókn til kynna sína þjónustu betur. \n  \n24.mars – Guðrúnu Arngríms í Sjálfsrækt ætlar að bjóða okkur upp á Yogaflæði og slökun. \n  \nFrekari upplýsingar eru inn á hópi NorðanKrafts – Hægt er að óska eftir inngöngu í hópinn hér.
URL:https://kraftur.org/vidburdur/nordankraftur-studningshopur/
LOCATION:NorðanKraftur\, Iceland
ATTACH;FMTTYPE=image/jpeg:https://kraftur.org/wp-content/uploads/2021/01/Bannera_NordanKraftur_1.jpg
END:VEVENT
END:VCALENDAR