BEGIN:VCALENDAR
VERSION:2.0
PRODID:-//Kraftur - ECPv6.15.15//NONSGML v1.0//EN
CALSCALE:GREGORIAN
METHOD:PUBLISH
X-WR-CALNAME:Kraftur
X-ORIGINAL-URL:https://kraftur.org
X-WR-CALDESC:Viðburðir í Kraftur
REFRESH-INTERVAL;VALUE=DURATION:PT1H
X-Robots-Tag:noindex
X-PUBLISHED-TTL:PT1H
BEGIN:VTIMEZONE
TZID:UTC
BEGIN:STANDARD
TZOFFSETFROM:+0000
TZOFFSETTO:+0000
TZNAME:UTC
DTSTART:20190101T000000
END:STANDARD
END:VTIMEZONE
BEGIN:VEVENT
DTSTART;TZID=UTC:20210406T170000
DTEND;TZID=UTC:20210406T181500
DTSTAMP:20260425T103402
CREATED:20210131T135110Z
LAST-MODIFIED:20210131T135110Z
UID:1260084-1617728400-1617732900@kraftur.org
SUMMARY:FELLUR NIÐUR - FítonsKraftur
DESCRIPTION:FítonsKraftur er endurhæfing í formi hreyfingar og útivistar fyrir ungt fólk sem greinst hefur með krabbamein. \nÆfingar eru í Heilsuklasanum 2x í viku undir handleiðslu Atla Más Sveinssonar íþróttafræðings. Frekari upplýsingar og skráning má finna hér. \nVið vekjum athygli á því að við bjóðum líka upp á Fjarþjálfun Krafts fyrir þá sem vilja æfa heima á meðan á samkomutakmörkunum stendur. Fjarþjálfun er auk þess í boði fyrir alla sem ekki hafa tök á að mæta í tímana með hópnum.
URL:https://kraftur.org/vidburdur/fitonskraftur-2021-04-06/
LOCATION:Heilsuklasinn\, Bíldshöfða 9\, Reykjavík\, 110\, Iceland
ATTACH;FMTTYPE=image/jpeg:https://kraftur.org/wp-content/uploads/2019/08/Banner_FitonsKrafturBW.jpg
END:VEVENT
BEGIN:VEVENT
DTSTART;TZID=UTC:20201005T200000
DTEND;TZID=UTC:20201005T220000
DTSTAMP:20260425T103402
CREATED:20200929T153114Z
LAST-MODIFIED:20200929T153114Z
UID:1252890-1601928000-1601935200@kraftur.org
SUMMARY:StelpuKraftur - stuðningshópur
DESCRIPTION:StelpuKraftur er stuðningshópur fyrir ungar konur á aldrinum 18 – 45 ára sem greinst hafa með krabbamein. Hópurinn hittist annan hvern mánudag kl. 20 ýmist í húskynnum Krafts\, Skógarhlíð 8\, eða annarsstaðar. \nDagskrá – apríl\nÞriðjudagur 6.apríl – Rafrænn hittingur\n\nHittumst í rafrænum heimi og spjöllum um heima og geima\nAuglýst nánar inn á FB hóp StelpuKrafts\n\nMán. 19.apríl– hittingur annað hvort rafrænn eða í skógarhlíð\n\nHittingur í stafrænum heimum eða ef samkomutakmarkanir verða rýmkaðar í húsakynnum Krafts\, Skógarhlíð 8\nAuglýst nánar inn á FB hóp StelpuKrafts\n\nUmsjón með hópnum hefur Hulda Hjálmarsdóttir\, starfsmaður og félagsmaður hjá Krafti. \nFrekari upplýsingar og hægt að óska eftir inngöngu í FB – hóp StelpuKrafts.  \nÞegar maður er ungur og greinist með krabbamein skiptir svo miklu máli að vita hvert maður getur leitað og maður standi ekki einn í baráttunni.
URL:https://kraftur.org/vidburdur/stelpukraftur-studningshopur-6/
LOCATION:Kraftur  – Stuðningsfélag fyrir ungt fólk sem greinst hefur með krabbamein og aðstandendur\, Skógarhlíð 8\, Reykjavík\, Reykjavík\, 105\, Iceland
ATTACH;FMTTYPE=image/jpeg:https://kraftur.org/wp-content/uploads/2020/06/Banner_stelpuKraftur_studningshopur.jpg
END:VEVENT
BEGIN:VEVENT
DTSTART;TZID=UTC:20210503T200000
DTEND;TZID=UTC:20210503T220000
DTSTAMP:20260425T103402
CREATED:20200929T153114Z
LAST-MODIFIED:20200929T153114Z
UID:1253431-1620072000-1620079200@kraftur.org
SUMMARY:StelpuKraftur - stuðningshópur
DESCRIPTION:StelpuKraftur er stuðningshópur fyrir ungar konur á aldrinum 18 – 45 ára sem greinst hafa með krabbamein. Hópurinn hittist annan hvern mánudag kl. 20 ýmist í húskynnum Krafts\, Skógarhlíð 8\, eða annarsstaðar. \nDagskrá ágúst\n23. ágúst- hittingur\n\nNánar auglýst síðar\n\nUmsjón með hópnum hefur Hulda Hjálmarsdóttir\, starfsmaður og félagsmaður hjá Krafti. \nFrekari upplýsingar um viðburði verða settar inn á FB – hóp StelpuKrafts   og er hægt að óska eftir inngöngu í hópinn hér. \nÞegar maður er ungur og greinist með krabbamein skiptir svo miklu máli að vita hvert maður getur leitað og maður standi ekki einn í baráttunni.
URL:https://kraftur.org/vidburdur/stelpukraftur-studningshopur-6-2021-05-03/
LOCATION:Kraftur  – Stuðningsfélag fyrir ungt fólk sem greinst hefur með krabbamein og aðstandendur\, Skógarhlíð 8\, Reykjavík\, Reykjavík\, 105\, Iceland
ATTACH;FMTTYPE=image/jpeg:https://kraftur.org/wp-content/uploads/2020/06/Banner_stelpuKraftur_studningshopur.jpg
END:VEVENT
END:VCALENDAR