BEGIN:VCALENDAR
VERSION:2.0
PRODID:-//Kraftur - ECPv6.15.15//NONSGML v1.0//EN
CALSCALE:GREGORIAN
METHOD:PUBLISH
X-ORIGINAL-URL:https://kraftur.org
X-WR-CALDESC:Viðburðir í Kraftur
REFRESH-INTERVAL;VALUE=DURATION:PT1H
X-Robots-Tag:noindex
X-PUBLISHED-TTL:PT1H
BEGIN:VTIMEZONE
TZID:UTC
BEGIN:STANDARD
TZOFFSETFROM:+0000
TZOFFSETTO:+0000
TZNAME:UTC
DTSTART:20200101T000000
END:STANDARD
END:VTIMEZONE
BEGIN:VEVENT
DTSTART;TZID=UTC:20210413T170000
DTEND;TZID=UTC:20210413T181500
DTSTAMP:20260423T075428
CREATED:20210131T135110Z
LAST-MODIFIED:20210131T135110Z
UID:1260086-1618333200-1618337700@kraftur.org
SUMMARY:FELLUR NIÐUR - FítonsKraftur
DESCRIPTION:FítonsKraftur er endurhæfing í formi hreyfingar og útivistar fyrir ungt fólk sem greinst hefur með krabbamein. \nÆfingar eru í Heilsuklasanum 2x í viku undir handleiðslu Atla Más Sveinssonar íþróttafræðings. Frekari upplýsingar og skráning má finna hér. \nVið vekjum athygli á því að við bjóðum líka upp á Fjarþjálfun Krafts fyrir þá sem vilja æfa heima á meðan á samkomutakmörkunum stendur. Fjarþjálfun er auk þess í boði fyrir alla sem ekki hafa tök á að mæta í tímana með hópnum.
URL:https://kraftur.org/vidburdur/fitonskraftur-2021-04-13/
LOCATION:Heilsuklasinn\, Bíldshöfða 9\, Reykjavík\, 110\, Iceland
ATTACH;FMTTYPE=image/jpeg:https://kraftur.org/wp-content/uploads/2019/08/Banner_FitonsKrafturBW.jpg
END:VEVENT
BEGIN:VEVENT
DTSTART;TZID=UTC:20210413T200000
DTEND;TZID=UTC:20210413T213000
DTSTAMP:20260423T075428
CREATED:20210329T120509Z
LAST-MODIFIED:20210329T120509Z
UID:1270283-1618344000-1618349400@kraftur.org
SUMMARY:AðstandendaKraftur - rafrænn
DESCRIPTION:Þriðjudaginn 13.apríl\, klukkan 20:00 ætlum við að koma saman í rafræna heiminum á Teams og deila okkar reynslu og hvaða bjargráð við höfum tileinkað okkur í ferlinu. \nÞessi hittingur verður því tileinkaður okkur\, við ætlum að eiga rólega stund og kynnast betur. Öllum er velkomið að henda fram hugsunum og pælingum og saman ætlum við að gefa hvert öðru tækifæri á að deila reynslu.\nVið þekkjum það öll sem lendum í þessum sporum hversu ómetanlegt það getur verið að tala við aðra sem hafa verið í svipuðum sporum\, AðstandendaKraftur var stofnaður af aðstandendum fyrir aðstandendur og hvetjum við alla til að mæta. \nÁttu eða hefur þú átt ástvin sem greinst hefur með krabbamein? Ef þú ert maki eða náinn aðstandandi getur það haft í för með sér verulegar breytingar á þínu lífi þar sem ýmsar spurningar geta vaknað og getur verið erfitt að vera til staðar fyrir þig og aðra á sama tíma. Það eru fleiri í þínum sporum.  \nUmsjón með hópnum hefur Hrefna Björk Sigvaldadóttir\, starfsmaður og félagsmaður í Krafti \nFrekari upplýsingar eru inn á hópi AðstandendaKrafts– Hægt er að óska eftir inngöngu í hópinn hér. \nKomdu á opið kvöld hjá AðstandendaKrafti. Við verðum á Teams og til þess að hægt sé að bæta þér við viðburðinn þurfum við emailið þitt sem þú skráir hér.
URL:https://kraftur.org/vidburdur/adstandendakraftur-rafraenn/
ATTACH;FMTTYPE=image/jpeg:https://kraftur.org/wp-content/uploads/2020/08/Banner_adstandandaKraftur.jpg
END:VEVENT
END:VCALENDAR