BEGIN:VCALENDAR
VERSION:2.0
PRODID:-//Kraftur - ECPv6.15.15//NONSGML v1.0//EN
CALSCALE:GREGORIAN
METHOD:PUBLISH
X-ORIGINAL-URL:https://kraftur.org
X-WR-CALDESC:Viðburðir í Kraftur
REFRESH-INTERVAL;VALUE=DURATION:PT1H
X-Robots-Tag:noindex
X-PUBLISHED-TTL:PT1H
BEGIN:VTIMEZONE
TZID:UTC
BEGIN:STANDARD
TZOFFSETFROM:+0000
TZOFFSETTO:+0000
TZNAME:UTC
DTSTART:20200101T000000
END:STANDARD
END:VTIMEZONE
BEGIN:VEVENT
DTSTART;TZID=UTC:20210416T173000
DTEND;TZID=UTC:20210416T193000
DTSTAMP:20260423T075157
CREATED:20210329T162139Z
LAST-MODIFIED:20210329T162139Z
UID:1270374-1618594200-1618601400@kraftur.org
SUMMARY:NorðanKraftur - stuðningshópur
DESCRIPTION:Það verður margt um að vera hjá NorðanKrafti í apríl. \nNorðanKraftur er stuðningshópur fyrir ungt fólk (18 til 45 ára) sem greinst hefur með krabbamein og aðstandendur. Hópurinn er starfræktur frá Akureyri og umsjón með hópnum hefur Tinna Stefánsdóttir\, starfsmaður og félagsmaður hjá Krafti. \nDagskrá Apríl:\n16.apríl – Hressandi ganga um nærumhverfi Akureyrar. Nánari upplýsingar inn á FB-hóp NorðanKrafts \n28.apríl- Við ætlum að skella okkur út fyrir þægindaramman og prufa Paddle board. Frábær skemmtun fyrir alla. Nánari upplýsingar inn á FB-hóp NorðanKrafts \nUmsjónarmaður hópsins er Tinna Stefánsdóttir\, starfsmaður Krafts og reynslubolti \nFrekari upplýsingar eru inn á hópi NorðanKrafts – Hægt er að óska eftir inngöngu í hópinn hér.
URL:https://kraftur.org/vidburdur/nordankraftur-studningshopur-2/
LOCATION:NorðanKraftur\, Iceland
ATTACH;FMTTYPE=image/jpeg:https://kraftur.org/wp-content/uploads/2021/01/Bannera_NordanKraftur_1.jpg
END:VEVENT
END:VCALENDAR