BEGIN:VCALENDAR
VERSION:2.0
PRODID:-//Kraftur - ECPv6.15.15//NONSGML v1.0//EN
CALSCALE:GREGORIAN
METHOD:PUBLISH
X-ORIGINAL-URL:https://kraftur.org
X-WR-CALDESC:Viðburðir í Kraftur
REFRESH-INTERVAL;VALUE=DURATION:PT1H
X-Robots-Tag:noindex
X-PUBLISHED-TTL:PT1H
BEGIN:VTIMEZONE
TZID:UTC
BEGIN:STANDARD
TZOFFSETFROM:+0000
TZOFFSETTO:+0000
TZNAME:UTC
DTSTART:20200101T000000
END:STANDARD
END:VTIMEZONE
BEGIN:VEVENT
DTSTART;TZID=UTC:20210513T200000
DTEND;TZID=UTC:20210513T220000
DTSTAMP:20260423T075251
CREATED:20210427T110505Z
LAST-MODIFIED:20210427T110505Z
UID:1271274-1620936000-1620943200@kraftur.org
SUMMARY:NorðanKraftur - stuðningshópur
DESCRIPTION:NorðanKraftur er stuðningshópur fyrir ungt fólk (18 til 45 ára) sem greinst hefur með krabbamein og aðstandendur. Hópurinn er starfræktur frá Akureyri og hittst tvisvar í mánuði. \n  \nDagskrá Maí\n13. maí – PADDLE BOARD \n\nVið ætlum að skella okkur út fyrir þægindaramman og prufa Paddle board. Frábær skemmtun fyrir alla. Nánari upplýsingar inn á FB-hóp NorðanKrafts\n\n26. maí – Pottarnir á hauganesi og út að borða\n\nSnæðum góðan mat á Baccalá Bar og skellum okkur svo í heitu pottana á Hauganesi\n\nUmsjónarmaður hópsins er Tinna Stefánsdóttir\, starfsmaður Krafts og reynslubolti og er hægt að ná í hana í síma 866-0153 eða senda póst á nordankraftur@kraftur.org \nFrekari upplýsingar eru inn á hópi NorðanKrafts – Hægt er að óska eftir inngöngu í hópinn hér.
URL:https://kraftur.org/vidburdur/nordankraftur-studningshopur-3/
ATTACH;FMTTYPE=image/jpeg:https://kraftur.org/wp-content/uploads/2021/01/Bannera_NordanKraftur_1.jpg
END:VEVENT
END:VCALENDAR