BEGIN:VCALENDAR
VERSION:2.0
PRODID:-//Kraftur - ECPv6.15.15//NONSGML v1.0//EN
CALSCALE:GREGORIAN
METHOD:PUBLISH
X-WR-CALNAME:Kraftur
X-ORIGINAL-URL:https://kraftur.org
X-WR-CALDESC:Viðburðir í Kraftur
REFRESH-INTERVAL;VALUE=DURATION:PT1H
X-Robots-Tag:noindex
X-PUBLISHED-TTL:PT1H
BEGIN:VTIMEZONE
TZID:UTC
BEGIN:STANDARD
TZOFFSETFROM:+0000
TZOFFSETTO:+0000
TZNAME:UTC
DTSTART:20200101T000000
END:STANDARD
END:VTIMEZONE
BEGIN:VEVENT
DTSTART;TZID=UTC:20210515T120000
DTEND;TZID=UTC:20210515T130000
DTSTAMP:20260423T062155
CREATED:20210427T114920Z
LAST-MODIFIED:20210427T114920Z
UID:1271264-1621080000-1621083600@kraftur.org
SUMMARY:Axarkast með FítonsKrafti
DESCRIPTION:Laugardaginn 15. maí kl. 12:00 ætla þau hjá Berskerkir að bjóða félagsmönnum okkar að koma og reyna fyrir sér í Axarkasti.\n  \nAxarkastið fer fram á Víðistaðatúni í Hafnarfirði og er því gott að klæða sig eftir veðri. Við ætlum að hittast á bílastæðinu við Víðistaðatún og er gott að vera mættur 5 til 10 mínútur í tólf. \n  \nFíotnsKraftur heldur mánaðarlega opna viðburði þar sem allir félagsmenn okkar geta komið og upplifað margs konar útivist og/eða hreyfingu. Viðburðurinn er opinn öllum en skráning er nauðsynleg. Ef fleiri skrá sig en pláss er fyrir\, ganga þeir fyrir sem eru virkir í FítonsKrafti – endurhæfingu fyrir krabbameinsgreinda. \n  \nSKRÁNING FER FRAM HÉR\n  \nAtli Már Sveinsson þjálfari FítonsKrafts heldur utan um hópinn en hægt er að ná í hann í síma 663-2252 eða senda honum póst á fitonskraftur@kraftur.org \nHægt er að skrá sig í FítonsKraft hér og einnig geta þeir félagsmenn sem nýta sér FítonsKraft óskað eftir inngöngu í FB-hóp FítonsKrafts. \n 
URL:https://kraftur.org/vidburdur/axarkast-med-fitonskrafti/
LOCATION:Víðistaðatún\, Hjallabraut 15\, Hafnarfjörður\, 220\, Iceland
ATTACH;FMTTYPE=image/jpeg:https://kraftur.org/wp-content/uploads/2021/04/banner_april_axarkast-scaled.jpg
END:VEVENT
END:VCALENDAR