BEGIN:VCALENDAR
VERSION:2.0
PRODID:-//Kraftur - ECPv6.15.15//NONSGML v1.0//EN
CALSCALE:GREGORIAN
METHOD:PUBLISH
X-ORIGINAL-URL:https://kraftur.org
X-WR-CALDESC:Viðburðir í Kraftur
REFRESH-INTERVAL;VALUE=DURATION:PT1H
X-Robots-Tag:noindex
X-PUBLISHED-TTL:PT1H
BEGIN:VTIMEZONE
TZID:UTC
BEGIN:STANDARD
TZOFFSETFROM:+0000
TZOFFSETTO:+0000
TZNAME:UTC
DTSTART:20200101T000000
END:STANDARD
END:VTIMEZONE
BEGIN:VEVENT
DTSTART;TZID=UTC:20210529T110000
DTEND;TZID=UTC:20210529T123000
DTSTAMP:20260423T062449
CREATED:20210426T143711Z
LAST-MODIFIED:20210426T143711Z
UID:1271211-1622286000-1622291400@kraftur.org
SUMMARY:Að klífa brattann - Elliðaárdalur
DESCRIPTION:Næsta ganga gönguhópsins Að klífa brattann verður laugardaginn 15.maí kl. 11:00.\n\nSkemmtileg og þægileg gönguleið um vinsælustu náttúruperlu Reykjávíkur sem sýnir okkur að ekki þarf að fara langt til að upplifa fallega náttúru. Gengið verður stígana á Árhólma út að Hólmstá\, en þar kvíslast Elliðaárnar í litlu og stóru Elliðaár og einnig er hægt að skoða fallegan foss sem rennur í litlu Elliðaá.\n\nÞægileg og kemmtileg ganga sem allir geta tekið þátt í.\n\nEndilega meldaður þig á viðburðinn hér \nVið ætlum að hittast á bílastæðinu við Hitt húsið beint á móti gamla raftstöðvarhúsinu. \nAð klífa brattann er gönguhópur sem Kraftskonan Ragnheiður Guðmundsdóttir leiðir en hún hefur notað útivist og fjallgöngur sér til endurhæfingar og sjálfseflingar í veikindum sínum. Göngurnar henta öllum þeim sem hafa áhuga á að kynna sér göngur og íslenska náttúru og njóta þess að vera í hópi meðal jafningja. \nRagnheiður (sími: 663-9360)\nÞú getur fylgst með okkur á Facebook og beðið um inngöngu í hópinn hér
URL:https://kraftur.org/vidburdur/ad-klifa-brattann-ellidaardalur/
LOCATION:raftstöðvarvegur\, Rafstöðvarvegur 7-9\, Reykjavík\, 110
ATTACH;FMTTYPE=image/jpeg:https://kraftur.org/wp-content/uploads/2020/06/Banner_ad_klifa_brattann.jpg
END:VEVENT
END:VCALENDAR