BEGIN:VCALENDAR
VERSION:2.0
PRODID:-//Kraftur - ECPv6.15.15//NONSGML v1.0//EN
CALSCALE:GREGORIAN
METHOD:PUBLISH
X-ORIGINAL-URL:https://kraftur.org
X-WR-CALDESC:Viðburðir í Kraftur
REFRESH-INTERVAL;VALUE=DURATION:PT1H
X-Robots-Tag:noindex
X-PUBLISHED-TTL:PT1H
BEGIN:VTIMEZONE
TZID:UTC
BEGIN:STANDARD
TZOFFSETFROM:+0000
TZOFFSETTO:+0000
TZNAME:UTC
DTSTART:20200101T000000
END:STANDARD
END:VTIMEZONE
BEGIN:VEVENT
DTSTART;TZID=UTC:20210609T200000
DTEND;TZID=UTC:20210609T220000
DTSTAMP:20260423T062459
CREATED:20210526T130057Z
LAST-MODIFIED:20210526T130057Z
UID:1271832-1623268800-1623276000@kraftur.org
SUMMARY:NorðanKraftur - stuðningshópur
DESCRIPTION:NorðanKraftur er stuðningshópur fyrir ungt fólk (18 til 45 ára) sem greinst hefur með krabbamein og aðstandendur. Hópurinn er starfræktur frá Akureyri og hittst tvisvar í mánuði. \n  \nDagskrá júní\n9. júní – Göngutúr í Kjarnaskógi\n\nVið ætlum að skella okkur upp í Kjarnaskóg í létta göngu og njóta þess allra besta sem Norðlensk náttúra hefur upp á að bjóða. Nánari upplýsingar inn á FB-hóp NorðanKrafts\n\n23. júní – Kaffihúsaferð  á Bláu Könnuna\n\nGott kaffi og bakelsi í samveru góðs hóps er gulls í gildi. Nánari upplýsingar inn á FB-hóp NorðanKrafts.\n\nUmsjónarmaður hópsins er Tinna Stefánsdóttir\, starfsmaður Krafts og reynslubolti og er hægt að ná í hana í síma 866-0153 eða senda póst á nordankraftur@kraftur.org \nFrekari upplýsingar eru inn á hópi NorðanKrafts – Hægt er að óska eftir inngöngu í hópinn hér.
URL:https://kraftur.org/vidburdur/nordankraftur-dagskra-juni/
LOCATION:NorðanKraftur\, Iceland
ATTACH;FMTTYPE=image/jpeg:https://kraftur.org/wp-content/uploads/2021/01/Bannera_NordanKraftur_1.jpg
END:VEVENT
END:VCALENDAR