BEGIN:VCALENDAR
VERSION:2.0
PRODID:-//Kraftur - ECPv6.15.15//NONSGML v1.0//EN
CALSCALE:GREGORIAN
METHOD:PUBLISH
X-WR-CALNAME:Kraftur
X-ORIGINAL-URL:https://kraftur.org
X-WR-CALDESC:Viðburðir í Kraftur
REFRESH-INTERVAL;VALUE=DURATION:PT1H
X-Robots-Tag:noindex
X-PUBLISHED-TTL:PT1H
BEGIN:VTIMEZONE
TZID:UTC
BEGIN:STANDARD
TZOFFSETFROM:+0000
TZOFFSETTO:+0000
TZNAME:UTC
DTSTART:20200101T000000
END:STANDARD
END:VTIMEZONE
BEGIN:VEVENT
DTSTART;TZID=UTC:20210814T110000
DTEND;TZID=UTC:20210814T130000
DTSTAMP:20260423T001039
CREATED:20210719T143559Z
LAST-MODIFIED:20210719T143559Z
UID:1272697-1628938800-1628946000@kraftur.org
SUMMARY:Að klífa brattann - Hafravatn
DESCRIPTION:Næsta ganga gönguhópsins Að klífa brattann verður laugardaginn 14. ágúst kl. 11:00.\n\n\nVið ætlum í skemmtilega göngu í kringum Hafravatn og byrjum gönguna frá Vatnsvíkinni þar sem við ætlum að hittast á bílastæðinu kl 11: 00 . Falleg leið sem er á flestra færi. Gengið verður í kringum vatnið þar sem stígar eru á jafnsléttu og lítið um hækkun\, en gott að hafa í huga að hluti gönguleiðarinnar er á malarstíg og fara þarf fyrir nokkrar sprænur og þvi gott að vera í góðum skóm. Gangan er um 5 km og tekur í 1 og hálfan til 2 tíma. Komum saman og njótum þess að vera úti að hreyfa okkur í fallegri náttúru í útjaðri Reykjavíkur. \nEndilega meldaðu þig á viðburðinn hér \nEf þið viljið sameinast í bíla endilega látið okkur vita\n  \nAð klífa brattann er gönguhópur fyrir krabbameinsgreinda og aðstandendur sem kraftskonurnar Ragnheiður Guðmundsdóttir og G. Sigríður Ágústsdóttir stofnuðu\, en þær hafa mikið notað útivist og fjallgöngur sér til endurhæfingar og sjálfseflingar í veikindum sínum. \nGöngurnar henta öllum þeim sem hafa áhuga á að kynna sér göngur og íslenska náttúru og njóta þess að vera í hópi meðal jafningja. Kraftsfélagar\, fjölskyldur þeirra\, börn og vinir eru hjartanlega velkomin. Endilega meldið ykkur svo við getum áætlað fjöldann. \nHægt er að ná í Hrefnu eða Huldu í síma: 866-9600 \n\nÞú getur fylgst með okkur á Facebook og beðið um inngöngu í hópinn hér\n 
URL:https://kraftur.org/vidburdur/ad-klifa-brattann-hafravatn/
LOCATION:Hafravatn\, Hafravatnsvegur\, Iceland
ATTACH;FMTTYPE=image/jpeg:https://kraftur.org/wp-content/uploads/2020/06/Banner_ad_klifa_brattann.jpg
ORGANIZER;CN="A%C3%B0 kl%C3%ADfa brattann - G%C3%B6nguh%C3%B3pur":MAILTO:kraftur@kraftur.org
END:VEVENT
END:VCALENDAR