BEGIN:VCALENDAR
VERSION:2.0
PRODID:-//Kraftur - ECPv6.15.15//NONSGML v1.0//EN
CALSCALE:GREGORIAN
METHOD:PUBLISH
X-ORIGINAL-URL:https://kraftur.org
X-WR-CALDESC:Viðburðir í Kraftur
REFRESH-INTERVAL;VALUE=DURATION:PT1H
X-Robots-Tag:noindex
X-PUBLISHED-TTL:PT1H
BEGIN:VTIMEZONE
TZID:UTC
BEGIN:STANDARD
TZOFFSETFROM:+0000
TZOFFSETTO:+0000
TZNAME:UTC
DTSTART:20200101T000000
END:STANDARD
END:VTIMEZONE
BEGIN:VEVENT
DTSTART;TZID=UTC:20210818T200000
DTEND;TZID=UTC:20210818T213000
DTSTAMP:20260423T014552
CREATED:20210719T135157Z
LAST-MODIFIED:20210719T135157Z
UID:1272688-1629316800-1629322200@kraftur.org
SUMMARY:AðstandendaKraftur - stuðningshópur
DESCRIPTION:Miðvikudaginn 18. ágúst klukkan 20:00 ætlum við að koma saman í Skógarhlíð 8 og hlusta á nokkra frábæra félagsmenn og reynslubolta sem öll hafa gegnið í gegnum þessar krefandi lífreynslu að eiga ástvin sem greinst hefur með krabbamein.\nGuðjón\, Harpa\, Guðrún Sesselja og Hrefna ætla að deila sinni reynslu með okkur\, hvernig krabbamein hefur haft áhrif á þeirra líf og hvernig þau hafa tekist á við breyttar aðstæður og hvaða bjargráð þau hafa tileinkað sér í ferlinu. \nEndilega meldaðu þig á viðburðinn okkar á Facebook \nÞessi hittingur verður því tileinkaður okkur\, við ætlum að eiga rólega stund og kynnast betur. Öllum er velkomið að henda fram hugsunum og pælingum og saman ætlum við að gefa hvort öðru tækifæri á að deila sinni reynslu.\nVið þekkjum það öll sem lendum í þessum sporum hversu ómetanlegt það getur verið að tala við aðra sem hafa verið í svipuðum sporum\, AðstandendaKraftur var stofnaður af aðstandendum fyrir aðstandendur og hvetjum við alla til að mæta. \nÁttu eða hefur þú átt ástvin sem greinst hefur með krabbamein? Ef þú ert maki eða náinn aðstandandi getur það haft í för með sér verulegar breytingar á þínu lífi þar sem ýmsar spurningar geta vaknað og getur verið erfitt að vera til staðar fyrir þig og aðra á sama tíma. Það eru fleiri í þínum sporum.\nKomdu á opið kvöld hjá AðstandendaKrafti.\nHlökkum til að „sjá“ þig ❤ \nUmsjónarmaður AðstandendaKrafts er Hrefna Björk Sigvaldadóttir sem er starfsmaður Krafts og aðstandandi. Hægt er að óska eftir inngöngu í hópinn á facebook hér.
URL:https://kraftur.org/vidburdur/adstandendakraftur-studningshopur-2/
LOCATION:Kraftur  – Stuðningsfélag fyrir ungt fólk sem greinst hefur með krabbamein og aðstandendur\, Skógarhlíð 8\, Reykjavík\, Reykjavík\, 105\, Iceland
ATTACH;FMTTYPE=image/jpeg:https://kraftur.org/wp-content/uploads/2021/01/Banner_adstandandaKraftur.jpg
END:VEVENT
BEGIN:VEVENT
DTSTART;TZID=UTC:20210818T203000
DTEND;TZID=UTC:20210818T220000
DTSTAMP:20260423T014552
CREATED:20210719T141256Z
LAST-MODIFIED:20210719T141256Z
UID:1272693-1629318600-1629324000@kraftur.org
SUMMARY:NorðanKraftur - stuðningshópur
DESCRIPTION:NorðanKraftur er stuðningshópur fyrir ungt fólk (18 til 45 ára) sem greinst hefur með krabbamein og aðstandendur. Hópurinn er starfræktur frá Akureyri og hittst tvisvar í mánuði. \n  \nDagskrá ágúst\n18. ÁGÚST – KAFFIHÚSAHITTINGUR Á BLÁU KÖNNUNNI\n\nGott kaffi og bakelsi í samveru góðs hóps er gulls í gildi. Nánari upplýsingar inn á FB-hóp NorðanKrafts.\n\n25. ÁGÚST – FRÍSBÍGOLF\n\nVið ætlum að reyna fyrir okkur í einu vinsælasta sumarsporti íslendinga um þessar mundir. Nánari upplýsingar inn á FB-hóp NorðanKrafts\n\nUmsjónarmaður hópsins er Tinna Stefánsdóttir\, starfsmaður Krafts og reynslubolti og er hægt að ná í hana í síma 866-0153 eða senda póst á nordankraftur@kraftur.org \nFrekari upplýsingar eru inn á hópi NorðanKrafts – Hægt er að óska eftir inngöngu í hópinn hér.
URL:https://kraftur.org/vidburdur/nordankraftur-studningshopur-4/
LOCATION:NorðanKraftur\, Iceland
ATTACH;FMTTYPE=image/jpeg:https://kraftur.org/wp-content/uploads/2021/01/Bannera_NordanKraftur_1.jpg
END:VEVENT
END:VCALENDAR