BEGIN:VCALENDAR
VERSION:2.0
PRODID:-//Kraftur - ECPv6.15.15//NONSGML v1.0//EN
CALSCALE:GREGORIAN
METHOD:PUBLISH
X-WR-CALNAME:Kraftur
X-ORIGINAL-URL:https://kraftur.org
X-WR-CALDESC:Viðburðir í Kraftur
REFRESH-INTERVAL;VALUE=DURATION:PT1H
X-Robots-Tag:noindex
X-PUBLISHED-TTL:PT1H
BEGIN:VTIMEZONE
TZID:UTC
BEGIN:STANDARD
TZOFFSETFROM:+0000
TZOFFSETTO:+0000
TZNAME:UTC
DTSTART:20200101T000000
END:STANDARD
END:VTIMEZONE
BEGIN:VEVENT
DTSTART;TZID=UTC:20210828T130000
DTEND;TZID=UTC:20210828T143000
DTSTAMP:20260423T000942
CREATED:20210803T135507Z
LAST-MODIFIED:20210803T135507Z
UID:1272847-1630155600-1630161000@kraftur.org
SUMMARY:Strandblak með FítonsKrafti
DESCRIPTION:Laugardaginn 28. ágúst kl. 13:00 ætlar Atli þjálfari fítonsKrafts að bjóða félagsmönnum ásamt fjölskyldu og vinum að koma í smá strandblaksleik.\n  \nÞú þarft ekki að kunna reglurnar\, bara koma og hafa gaman. Ekki gleyma að melda ykkur á viðburðinn okkar á FB svo við vitum ca. hve margir ætla að mæta . Við ætlum að hittast rétt fyrir eitt á strandblakvellinum í Garðabæ. \n  \nFíotnsKraftur heldur mánaðarlega opna viðburði þar sem allir félagsmenn okkar geta komið og upplifað margs konar útivist og/eða hreyfingu. Viðburðurinn er opinn öllum en skráning er nauðsynleg. Ef fleiri skrá sig en pláss er fyrir\, ganga þeir fyrir sem eru virkir í FítonsKrafti – endurhæfingu fyrir krabbameinsgreinda. \n  \nAtli Már Sveinsson þjálfari FítonsKrafts heldur utan um hópinn en hægt er að ná í hann í síma 663-2252 eða senda honum póst á fitonskraftur@kraftur.org \nHægt er að skrá sig í FítonsKraft hér og einnig geta þeir félagsmenn sem nýta sér FítonsKraft óskað eftir inngöngu í FB-hóp FítonsKrafts. \n 
URL:https://kraftur.org/vidburdur/strandblak-med-fitonskrafti/
LOCATION:Strandblakvöllur Garðabæjar\, Ásgarður\, Garðabær\, 210\, Iceland
ATTACH;FMTTYPE=image/jpeg:https://kraftur.org/wp-content/uploads/2021/08/banner_august2021_fitons-kraftur_strandblak-2.jpg
END:VEVENT
END:VCALENDAR