BEGIN:VCALENDAR
VERSION:2.0
PRODID:-//Kraftur - ECPv6.15.15//NONSGML v1.0//EN
CALSCALE:GREGORIAN
METHOD:PUBLISH
X-WR-CALNAME:Kraftur
X-ORIGINAL-URL:https://kraftur.org
X-WR-CALDESC:Viðburðir í Kraftur
REFRESH-INTERVAL;VALUE=DURATION:PT1H
X-Robots-Tag:noindex
X-PUBLISHED-TTL:PT1H
BEGIN:VTIMEZONE
TZID:UTC
BEGIN:STANDARD
TZOFFSETFROM:+0000
TZOFFSETTO:+0000
TZNAME:UTC
DTSTART:20200101T000000
END:STANDARD
END:VTIMEZONE
BEGIN:VEVENT
DTSTART;TZID=UTC:20210906T200000
DTEND;TZID=UTC:20210906T220000
DTSTAMP:20260422T223542
CREATED:20211001T160940Z
LAST-MODIFIED:20211001T160940Z
UID:1291415-1630958400-1630965600@kraftur.org
SUMMARY:StelpuKraftur - stuðningshópur
DESCRIPTION:StelpuKraftur er stuðningshópur fyrir ungar konur á aldrinum 18 – 45 ára sem greinst hafa með krabbamein. Hópurinn hittist annan hvern mánudag kl. 20 ýmist í húskynnum Krafts\, Skógarhlíð 8\, eða annarsstaðar. \nDAGSKRÁ SEPTEMBER\n6. SEPTEMBER – hittingur Í SKÓGARHLÍÐINNI\n\nVið ætlum aðeina að líta inn á við og skoða hvernig við nærum líkama og sál.\nÞær sem búa á landsbyggðinni geta tekið þátt í þessum viðburði á Zoom.\n\n20. SEPTEMBER – SYSTRAHITTINGUR MEÐ SÚKKULAÐI\, TÓNHEILUN OG SLÖKUN\n\nLára Rúnars hjá jógakennari ætlar að bjóða okkur í ný húskynni MÓAR studio og bjóða okkur upp á súkkulaði\, slökun og möntrusöng\n\nUmsjón með hópnum hefur Hulda Hjálmarsdóttir\, starfsmaður og félagsmaður hjá Krafti. \nFrekari upplýsingar um viðburði verða settar inn á FB – hóp StelpuKrafts   og er hægt að óska eftir inngöngu í hópinn hér. \nÞegar maður er ungur og greinist með krabbamein skiptir svo miklu máli að vita hvert maður getur leitað og maður standi ekki einn í baráttunni.
URL:https://kraftur.org/vidburdur/stelpukraftur-studningshopur-9/
LOCATION:Kraftur  – Stuðningsfélag fyrir ungt fólk sem greinst hefur með krabbamein og aðstandendur\, Skógarhlíð 8\, Reykjavík\, Reykjavík\, 105\, Iceland
ATTACH;FMTTYPE=image/jpeg:https://kraftur.org/wp-content/uploads/2020/06/Banner_stelpuKraftur_studningshopur.jpg
END:VEVENT
END:VCALENDAR