BEGIN:VCALENDAR
VERSION:2.0
PRODID:-//Kraftur - ECPv6.15.15//NONSGML v1.0//EN
CALSCALE:GREGORIAN
METHOD:PUBLISH
X-ORIGINAL-URL:https://kraftur.org
X-WR-CALDESC:Viðburðir í Kraftur
REFRESH-INTERVAL;VALUE=DURATION:PT1H
X-Robots-Tag:noindex
X-PUBLISHED-TTL:PT1H
BEGIN:VTIMEZONE
TZID:UTC
BEGIN:STANDARD
TZOFFSETFROM:+0000
TZOFFSETTO:+0000
TZNAME:UTC
DTSTART:20200101T000000
END:STANDARD
END:VTIMEZONE
BEGIN:VEVENT
DTSTART;TZID=UTC:20210907T200000
DTEND;TZID=UTC:20210907T213000
DTSTAMP:20260423T001224
CREATED:20211001T161752Z
LAST-MODIFIED:20211001T161752Z
UID:1291417-1631044800-1631050200@kraftur.org
SUMMARY:AðstandendaKraftur - Stuðningshópur
DESCRIPTION:AðstandendaKraftur var stofnaður af aðstandendum fyrir aðstandendur og hittist tvisvar í mánuði annað hvort í Skógarhlíð 8 eða í rafrænum heimi á Teams. \n  \nDAGSKRÁ SEPTEMBER\n  \n7. september-RAFRÆNN HITTINGUR Á TEAMS – SKRÁNING FER FRAM HÉR \n\nHittumst á Teams og ræðum saman um áskoranir sem við erum að takast á við í dagsdaglegu lífi sem aðstandendur.\nNýtum okkur reynsluna og hjálpumst að við að finna bjargráð til að takast á við krefjandi aðstæður.\n\n22. SEPTEMBER– HVAÐ ER JAFNINGJASTUÐNINGUR\n\nJafningjastuðningur\, hvað er stuðningsnetið? Þorri sálfræðingur ætlar að koma og ræða um mikilvægi jafningjastuðnings og kynna Stuðningsnetið fyrir okkur.\n\nÁttu eða hefur þú átt ástvin sem greinst hefur með krabbamein? Ef þú ert maki\, foreldri\, systkini eða náinn aðstandandi getur það haft í för með sér verulegar breytingar á þínu lífi þar sem ýmsar spurningar geta vaknað og getur verið erfitt að vera til staðar fyrir þig og aðra á sama tíma. Það eru fleiri í þínum sporum. \nHlökkum til að sjá þig  \nUmsjónarmaður hópsins er Hrefna Björk Sigvaldadóttir starfsmaður Krafts en hún hefur sjálf reynslu af því að vera aðstandandi.\nHægt er að ná í Hrefnu í síma 866-9698 eða í gegnum hrefna@kraftur.org\, en einnig er hægt er að óska eftir inngöngu í hópinn á Facebook hér.
URL:https://kraftur.org/vidburdur/adstandendakraftur-studningshopur-3/
LOCATION:Kraftur  – Stuðningsfélag fyrir ungt fólk sem greinst hefur með krabbamein og aðstandendur\, Skógarhlíð 8\, Reykjavík\, Reykjavík\, 105\, Iceland
ATTACH;FMTTYPE=image/jpeg:https://kraftur.org/wp-content/uploads/2021/10/Banner_adstandandaKraftur-1.jpg
END:VEVENT
BEGIN:VEVENT
DTSTART;TZID=UTC:20210908T200000
DTEND;TZID=UTC:20210908T220000
DTSTAMP:20260423T001224
CREATED:20211001T162150Z
LAST-MODIFIED:20211001T162150Z
UID:1291419-1631131200-1631138400@kraftur.org
SUMMARY:NorðanKraftur - stuðningshópur
DESCRIPTION:NorðanKraftur er stuðningshópur fyrir ungt fólk (18 til 45 ára) sem greinst hefur með krabbamein og aðstandendur. Hópurinn er starfræktur frá Akureyri og hittst tvisvar í mánuði. \n  \nDAGSKRÁ SEPTEMBER\n  \n8. SEPTEMBER– GANGA UPP Á FÁLKAFELL\n\nRóleg og þægileg ganga í fallegri náttúru.\n\n22. SEPTEMBER – ÚT AÐ BORÐA Á STRIKINU\n\nÆtlum að eiga notalega stund saman og snæða girnilegan mat.\n\nUmsjónarmaður hópsins er Tinna Stefánsdóttir\, starfsmaður Krafts sem hefur reynslu af því að vera ung og greinast með æxli Hægt er að ná í hana í síma 866-0153 eða senda póst á nordankraftur@kraftur.org \nFrekari upplýsingar eru inni á hópi NorðanKrafts – Hægt er að óska eftir inngöngu í hópinn hér.
URL:https://kraftur.org/vidburdur/nordankraftur-studningshopur-6/
LOCATION:NorðanKraftur\, Iceland
ATTACH;FMTTYPE=image/jpeg:https://kraftur.org/wp-content/uploads/2021/10/Bannera_NordanKraftur_1-1.jpg
END:VEVENT
END:VCALENDAR