BEGIN:VCALENDAR
VERSION:2.0
PRODID:-//Kraftur - ECPv6.15.15//NONSGML v1.0//EN
CALSCALE:GREGORIAN
METHOD:PUBLISH
X-WR-CALNAME:Kraftur
X-ORIGINAL-URL:https://kraftur.org
X-WR-CALDESC:Viðburðir í Kraftur
REFRESH-INTERVAL;VALUE=DURATION:PT1H
X-Robots-Tag:noindex
X-PUBLISHED-TTL:PT1H
BEGIN:VTIMEZONE
TZID:UTC
BEGIN:STANDARD
TZOFFSETFROM:+0000
TZOFFSETTO:+0000
TZNAME:UTC
DTSTART:20200101T000000
END:STANDARD
END:VTIMEZONE
BEGIN:VEVENT
DTSTART;TZID=UTC:20211004T200000
DTEND;TZID=UTC:20211004T220000
DTSTAMP:20260422T223446
CREATED:20210830T165840Z
LAST-MODIFIED:20210830T165840Z
UID:1273735-1633377600-1633384800@kraftur.org
SUMMARY:StelpuKraftur - stuðningshópur
DESCRIPTION:StelpuKraftur er stuðningshópur fyrir ungar konur á aldrinum 18 – 40 ára sem greinst hafa með krabbamein. Hópurinn hittist annan hvern mánudag kl. 20 ýmist í húskynnum Krafts\, Skógarhlíð 8\, eða annarsstaðar. \nDAGSKRÁ OKTÓBER\n  \n4. OKTÓBER – RAFRÆNN HITTINGUR\n\nRafrænt Bleikt boð með Stínu markþjálfa og kynlífsmarkþjálfa.\n\n18. OKTÓBER \n\nDekur í Skylagoon\n\nNánari upplýsingar um viðburði verða settar inn á FB – hóp StelpuKrafts   og er hægt að óska eftir inngöngu í hópinn hér. \nUmsjónarmaður hópsins er Hulda Hjálmardóttir starfsmaður og félagsmaður Krafts og hefur hún einnig reynslu af því að vera ung og greinast með krabbamein. \nÞegar maður er ungur og greinist með krabbamein skiptir svo miklu máli að vita hvert maður getur leitað og maður standi ekki einn í baráttunni.
URL:https://kraftur.org/vidburdur/stelpukraftur-studningshopur-8/
LOCATION:Kraftur  – Stuðningsfélag fyrir ungt fólk sem greinst hefur með krabbamein og aðstandendur\, Skógarhlíð 8\, Reykjavík\, Reykjavík\, 105\, Iceland
ATTACH;FMTTYPE=image/jpeg:https://kraftur.org/wp-content/uploads/2020/06/Banner_stelpuKraftur_studningshopur.jpg
END:VEVENT
END:VCALENDAR