BEGIN:VCALENDAR
VERSION:2.0
PRODID:-//Kraftur - ECPv6.15.15//NONSGML v1.0//EN
CALSCALE:GREGORIAN
METHOD:PUBLISH
X-ORIGINAL-URL:https://kraftur.org
X-WR-CALDESC:Viðburðir í Kraftur
REFRESH-INTERVAL;VALUE=DURATION:PT1H
X-Robots-Tag:noindex
X-PUBLISHED-TTL:PT1H
BEGIN:VTIMEZONE
TZID:UTC
BEGIN:STANDARD
TZOFFSETFROM:+0000
TZOFFSETTO:+0000
TZNAME:UTC
DTSTART:20200101T000000
END:STANDARD
END:VTIMEZONE
BEGIN:VEVENT
DTSTART;TZID=UTC:20211023T110000
DTEND;TZID=UTC:20211023T130000
DTSTAMP:20260422T205900
CREATED:20210927T131117Z
LAST-MODIFIED:20210927T131117Z
UID:1274377-1634986800-1634994000@kraftur.org
SUMMARY:Að klífa brattann - Helgafell Mosfellsbæ
DESCRIPTION:Næsta ganga gönguhópsins Að klífa brattann verður laugardaginn 23.október kl. 11.\n\n\nVið ætlum að ganga hringinn í kringum Helgafellið í Mosfellsbæ. Hringurinn er um 6 km með um 150 metra hækkun. Gangan hentar flestum getustigum en fyrir suma væri gott að hafa meðferðis göngustafi. \nVið ætlum að hittast á litlu bílastæði á Skammdalsvegi í Mosfellsdal.\nBeygt er inn á Þingvallarveg frá Vestulandsvegi. Ekið er um 1\,5 km þar til komið er að malarvegi á hægri hönd\, það er Skammdalsvegur og bílastæðið er um 150m ofar á vinstri hönd \nEndilega meldaðu þig á viðburðinn hér svo við getum áætlað fjöldann\, því við viljum ekki skilja neinn eftir  \nEf þið viljið sameinast í bíla endilega látið okkur vita\n  \nAð klífa brattann er gönguhópur fyrir krabbameinsgreinda og aðstandendur sem kraftskonurnar Ragnheiður Guðmundsdóttir og G. Sigríður Ágústsdóttir stofnuðu\, en þær hafa mikið notað útivist og fjallgöngur sér til endurhæfingar og sjálfseflingar í veikindum sínum. \nRagnheiður sér um að leiða göngurnar ásamt Atla Má Sveinssyni þjálfara FítonsKrafts. \nRagnheiður (sími: 663-9360)\nAtli (sími: 663-2252) \nGöngurnar henta öllum þeim sem hafa áhuga á að kynna sér göngur og íslenska náttúru og njóta þess að vera í hópi meðal jafningja. Kraftsfélagar\, fjölskyldur þeirra\, börn og vinir eru hjartanlega velkomin.  \n\nÞú getur fylgst með okkur á Facebook og beðið um inngöngu í hópinn hér\n 
URL:https://kraftur.org/vidburdur/ad-klifa-brattann-helgafell-mosfellsbae/
ATTACH;FMTTYPE=image/jpeg:https://kraftur.org/wp-content/uploads/2020/06/Banner_ad_klifa_brattann.jpg
ORGANIZER;CN="A%C3%B0 kl%C3%ADfa brattann - G%C3%B6nguh%C3%B3pur":MAILTO:kraftur@kraftur.org
END:VEVENT
END:VCALENDAR