BEGIN:VCALENDAR
VERSION:2.0
PRODID:-//Kraftur - ECPv6.15.15//NONSGML v1.0//EN
CALSCALE:GREGORIAN
METHOD:PUBLISH
X-WR-CALNAME:Kraftur
X-ORIGINAL-URL:https://kraftur.org
X-WR-CALDESC:Viðburðir í Kraftur
REFRESH-INTERVAL;VALUE=DURATION:PT1H
X-Robots-Tag:noindex
X-PUBLISHED-TTL:PT1H
BEGIN:VTIMEZONE
TZID:UTC
BEGIN:STANDARD
TZOFFSETFROM:+0000
TZOFFSETTO:+0000
TZNAME:UTC
DTSTART:20200101T000000
END:STANDARD
END:VTIMEZONE
BEGIN:VEVENT
DTSTART;TZID=UTC:20211113T130000
DTEND;TZID=UTC:20211113T150000
DTSTAMP:20260422T190402
CREATED:20211027T121147Z
LAST-MODIFIED:20211027T121147Z
UID:1275133-1636808400-1636815600@kraftur.org
SUMMARY:FítonsKraftur - Skautar í Egilshöll
DESCRIPTION:Laugardaginn 13. nóvember ætlum við að fagna vetrarbyrjun og skella okkur á skauta. Sama hvort þú hafir reynslu eða hafir aldrei stigið á skauta þá er þetta frábær skemmtun fyrir alla fjölskylduna. \n  \nSkráning fer fram hér\n  \nSkautar og hjálmar verða á staðnum fyrir alla sem þurfa. Einnig eru á staðnum jafnvægisslár sem hægt er að taka með sér út á ísinn. \nVið mælum með að fólk klæði sig vel og gott að hafa á bak við eyrað að svellið gettur verið blautt \nFítonsKraftur heldur mánaðarlega opna viðburði þar sem allir félagsmenn okkar geta komið og upplifað fjölbreytilega útivist og/eða hreyfingu. Viðburðurinn er opinn öllum en skráning er nauðsynleg því oft eru takmörkuð pláss í boði. \n  \nAtli Már Sveinsson þjálfari FítonsKrafts heldur utan um hópinn en hægt er að ná í hann í síma 663-2252 eða senda honum póst á fitonskraftur@kraftur.org \nHægt er að skrá sig í FítonsKraft hér og einnig geta þeir félagsmenn sem nýta sér námskeið FítonsKrafts óskað eftir inngöngu í FB-hóp FítonsKrafts. \n 
URL:https://kraftur.org/vidburdur/fitonskraftur-skautar-egilsholl/
LOCATION:Skautasvellið Egilshöll\, Fossaleyni 1\, Reykjavík\, 112\, Iceland
ATTACH;FMTTYPE=image/jpeg:https://kraftur.org/wp-content/uploads/2021/10/Banner_nov2021_skautar_web-1.jpg
END:VEVENT
END:VCALENDAR