BEGIN:VCALENDAR
VERSION:2.0
PRODID:-//Kraftur - ECPv6.15.15//NONSGML v1.0//EN
CALSCALE:GREGORIAN
METHOD:PUBLISH
X-WR-CALNAME:Kraftur
X-ORIGINAL-URL:https://kraftur.org
X-WR-CALDESC:Viðburðir í Kraftur
REFRESH-INTERVAL;VALUE=DURATION:PT1H
X-Robots-Tag:noindex
X-PUBLISHED-TTL:PT1H
BEGIN:VTIMEZONE
TZID:UTC
BEGIN:STANDARD
TZOFFSETFROM:+0000
TZOFFSETTO:+0000
TZNAME:UTC
DTSTART:20200101T000000
END:STANDARD
END:VTIMEZONE
BEGIN:VEVENT
DTSTART;TZID=UTC:20211108T200500
DTEND;TZID=UTC:20211108T211500
DTSTAMP:20260422T171832
CREATED:20211027T140201Z
LAST-MODIFIED:20211027T140201Z
UID:1275150-1636401900-1636406100@kraftur.org
SUMMARY:FítonsKraftur - Njóttu þín í núinu: 6 vikna jóganámskeið
DESCRIPTION:Njóttu þín í núinu: kraftur\, mýkt og slökun – 6 vikna jóganámskeið fyrir félagsmenn Krafts\, krabbameinsgreinda og aðstandendur. \nÁ námskeiðinu vinnum við með öndun\, hugleiðslu\, styrk\, liðleika og endum hvern tíma á góðri slökun. Stundum verðum við kröftug reynum á styrkinn okkar og stundum mjúk og róleg og leggjum meiri áherslu á kyrrðina. Tímarnir ættu að henta all flestum sem vilja taka smá stund fyrir sig til að hreyfa líkamann\, róa hugann og taugakerfið og gefa sér tíma til að slaka á. \nMikilvægast er að hver og einn hlusti á líkamann sinn og geri eins mikið og hann leyfir hverju sinni\, það þarf aldrei að gera allt eða fara alla leið.\nAllur yogabúnaður er á staðnum en gott að taka með sér sundföt og handklæði ef þú vilt fara í spaið. \nEftir tímann er svo tilvalið að slaka á í spainu þar sem er að finna saunu\, heitan og kaldan pott og flotlaug. Spaið og búningsklefarnir eru opnir til kl. 22:00.\nKennari: Ása Sóley Svavarsdóttir \nStaðfestingargjald 2.500 kr. \nMarkmið námskeiðsins eru: \n\nIðkendur fái innsýn inn í mikilvægi öndunar og styrkingu líkamans með fjölbreyttri hreyfingu.\nIðkendur nái tökum á grunntækni mismunandi jóga aðferða.\nIðkendur upplifi vellíðan og slökun.\n\nStaðsetning og tími: \n\nYoga&Heilsa\, Ármúla 9 – gengið inn um aðalinngang Hótel Íslands. Þaðan liggur stigi niður í móttöku Silfra Spa og yogastúdíósins.\nKennt mánudaga og miðvikudaga kl.20:05-21:15\n6 vikna námskeið\, frá 8. nóvember til 15. desember\n\nSkráning fer fram hér
URL:https://kraftur.org/vidburdur/fitonskraftur-nottu-thin-nuinu-6-vikna-joganamskeid/
LOCATION:Yoga&Heilsa\, Ármúli 9\, Reykjavík\, 108\, Iceland
ATTACH;FMTTYPE=image/jpeg:https://kraftur.org/wp-content/uploads/2021/10/Banner_nov2021_njottu_i_nuinu-1.jpg
END:VEVENT
BEGIN:VEVENT
DTSTART;TZID=UTC:20211215T201500
DTEND;TZID=UTC:20211215T220000
DTSTAMP:20260422T171832
CREATED:20211130T230743Z
LAST-MODIFIED:20211130T230743Z
UID:1291431-1639599300-1639605600@kraftur.org
SUMMARY:NorðanKraftur - stuðningshópur
DESCRIPTION:NorðanKraftur er stuðningshópur fyrir ungt fólk (18 til 45 ára) sem greinst hefur með krabbamein og aðstandendur. Hópurinn er starfræktur frá Akureyri og hittst tvisvar í mánuði. \nDAGSKRÁ DESEMBER\n9. Desember – Jólastund í stofunni með Krafti\n\nHið árlega aðventukvöld Krafts haldið í netheimum. Við verðum með streymi beint heim til þín og alls konar skemmtidagskrá í boði\, bingó með frábærum vinningum og jólasveinar á kreiki.\n\n29. desember – jólaglögg og piparkökur\n\nHittumst yfir kakó og piparkökum á kósý kaffihúsi\n\nUmsjónarmaður hópsins er Tinna Stefánsdóttir\, starfsmaður og félagsmaður Krafts sem hefur reynslu af því að vera ung og greinast með æxli. Hægt er að ná í hana í síma 866-0153 eða senda póst á nordankraftur@kraftur.org \nFrekari upplýsingar eru inni á hópi NorðanKrafts – Hægt er að óska eftir inngöngu í hópinn hér.
URL:https://kraftur.org/vidburdur/nordankraftur-studningshopur-8/
LOCATION:NorðanKraftur\, Iceland
ATTACH;FMTTYPE=image/jpeg:https://kraftur.org/wp-content/uploads/2021/10/Bannera_NordanKraftur_1-1.jpg
END:VEVENT
END:VCALENDAR