BEGIN:VCALENDAR
VERSION:2.0
PRODID:-//Kraftur - ECPv6.15.15//NONSGML v1.0//EN
CALSCALE:GREGORIAN
METHOD:PUBLISH
X-ORIGINAL-URL:https://kraftur.org
X-WR-CALDESC:Viðburðir í Kraftur
REFRESH-INTERVAL;VALUE=DURATION:PT1H
X-Robots-Tag:noindex
X-PUBLISHED-TTL:PT1H
BEGIN:VTIMEZONE
TZID:UTC
BEGIN:STANDARD
TZOFFSETFROM:+0000
TZOFFSETTO:+0000
TZNAME:UTC
DTSTART:20200101T000000
END:STANDARD
END:VTIMEZONE
BEGIN:VEVENT
DTSTART;TZID=UTC:20211218T110000
DTEND;TZID=UTC:20211218T123000
DTSTAMP:20260422T172328
CREATED:20211130T224327Z
LAST-MODIFIED:20211130T224327Z
UID:1291429-1639825200-1639830600@kraftur.org
SUMMARY:Kósý jólaganga í Heiðmörk
DESCRIPTION:Laugardaginn 18.desember\, ætlum við að fara í notalega og jólalega göngu um Heiðmörk 🎄 Auðveld leið á flestra færi\, þar sem lítið er um hækkun. Göngum saman í svona 45 til 60 mínútur. \nKomum saman og njótum þess að vera úti að hreyfa okkur í fallegri náttúru í útjaðri Reykjavíkur. \nEftir gönguna ætlum að ylja okkur og fylla á orkuna með heitum kakóbolla og piparkökum ☕ og jafnvel einhverjum leikjum. Einnig er kjörið að skella sér í jólaþorpið við Elliðavatnsbæ eftir gönguna\, þannig að endilega takið alla fjölskylduna með <3 \nVið munum hittast á bílastæði á Heiðmerkurveginum þar sem er nóg af bílastæðum. \nKraftsfélagar\, fjölskyldur þeirra\, börn og vinir eru hjartanlega velkomin. Endilega meldið ykkur á Facebook viðburðinum \nHægt er að ná í Hrefnu í síma: 866-9698 eða Huldu í síma: 866-9600 fyrir frekari upplýsingar.
URL:https://kraftur.org/vidburdur/kosy-jolaganga-heidmork-2/
ATTACH;FMTTYPE=image/jpeg:https://kraftur.org/wp-content/uploads/2021/11/banner_jolaganga_heidmork_des2021-1.jpg
END:VEVENT
END:VCALENDAR