BEGIN:VCALENDAR
VERSION:2.0
PRODID:-//Kraftur - ECPv6.15.15//NONSGML v1.0//EN
CALSCALE:GREGORIAN
METHOD:PUBLISH
X-WR-CALNAME:Kraftur
X-ORIGINAL-URL:https://kraftur.org
X-WR-CALDESC:Viðburðir í Kraftur
REFRESH-INTERVAL;VALUE=DURATION:PT1H
X-Robots-Tag:noindex
X-PUBLISHED-TTL:PT1H
BEGIN:VTIMEZONE
TZID:UTC
BEGIN:STANDARD
TZOFFSETFROM:+0000
TZOFFSETTO:+0000
TZNAME:UTC
DTSTART:20210101T000000
END:STANDARD
END:VTIMEZONE
BEGIN:VEVENT
DTSTART;TZID=UTC:20220312T120000
DTEND;TZID=UTC:20220312T130000
DTSTAMP:20260422T115125
CREATED:20220225T100145Z
LAST-MODIFIED:20220225T100145Z
UID:1277746-1647086400-1647090000@kraftur.org
SUMMARY:FELLUR NIÐUR - FítonsKraftur - Bogfimi
DESCRIPTION:Því miður þurfum við að hætta við viðburðinn\, en vonandi getum við boðið upp á bogfimi aftur seinna.\nFrekari upplýsingar gefur Hrefna í gegnum hrefna@kraftur.org \nTilvalið tækifæri til að eiga skemmtilega stund með fjölskyldunni. \nFíotnsKraftur heldur mánaðarlega opna viðburði þar sem allir félagsmenn okkar geta komið og upplifað margs konar útivist og/eða hreyfingu. Viðburðurinn er opinn öllum en skráning er nauðsynleg. \nSKRÁNING FER FRAM HÉR  \nAtli Már Sveinsson þjálfari FítonsKrafts heldur utan um hópinn en hægt er að ná í hann í síma 663-2252 eða senda honum póst á fitonskraftur@kraftur.org \nHægt er að óskað eftir inngöngu í FB-hóp FítonsKrafts hér
URL:https://kraftur.org/vidburdur/fitonskraftur-bogfimi/
LOCATION:Bogfimisetrið\, Dugguvogur 2\, Reykjavík\, Reykjavík\, 104\, Iceland
ATTACH;FMTTYPE=image/jpeg:https://kraftur.org/wp-content/uploads/2022/02/banner_mars2022_bogfimi_web-1.jpg
END:VEVENT
END:VCALENDAR