BEGIN:VCALENDAR
VERSION:2.0
PRODID:-//Kraftur - ECPv6.15.15//NONSGML v1.0//EN
CALSCALE:GREGORIAN
METHOD:PUBLISH
X-WR-CALNAME:Kraftur
X-ORIGINAL-URL:https://kraftur.org
X-WR-CALDESC:Viðburðir í Kraftur
REFRESH-INTERVAL;VALUE=DURATION:PT1H
X-Robots-Tag:noindex
X-PUBLISHED-TTL:PT1H
BEGIN:VTIMEZONE
TZID:UTC
BEGIN:STANDARD
TZOFFSETFROM:+0000
TZOFFSETTO:+0000
TZNAME:UTC
DTSTART:20210101T000000
END:STANDARD
END:VTIMEZONE
BEGIN:VEVENT
DTSTART;TZID=UTC:20220316T200000
DTEND;TZID=UTC:20220316T220000
DTSTAMP:20260422T115038
CREATED:20220221T134453Z
LAST-MODIFIED:20220221T134453Z
UID:1277707-1647460800-1647468000@kraftur.org
SUMMARY:StrákaKraftur - stuðningshópur
DESCRIPTION:StrákaKraftur er hópur fyrir unga stráka á aldrinum 18 – 45 ára sem greinst hafa með krabbamein. Hópurinn hittist einu sinni í mánuði ýmist í húskynnum Krafts\, Skógarhlíð 8\, eða annarsstaðar. \nATH! breytt dagsetning \n16. MARS- PÍLA OG GLAÐNINGUR  \n\nBullseye Reykjavík ætlar að taka vel á móti okkur og bjóða okkur í pílu og eitthvað snarl.\n\nUmsjón með hópnum hefur Gísli Álfgeirsson\, stjórnarmeðlimur og félagsmaður hjá Krafti. \nFrekari upplýsingar um viðburðinn verða settar inn á FB – hóp StrákaKrafts og er hægt að óska eftir inngöngu í hópinn hér  \nÞegar maður er ungur og greinist með krabbamein skiptir svo miklu máli að vita hvert maður getur leitað og maður standi ekki einn í baráttunni.
URL:https://kraftur.org/vidburdur/strakakraftur-studningshopur-3/
LOCATION:Bullseye ehf\, Snorrabraut 37\, Reykjavík\, 105\, Iceland
ATTACH;FMTTYPE=image/jpeg:https://kraftur.org/wp-content/uploads/2022/01/Banner_strakaKraftur_studningshopur-1.jpg
END:VEVENT
END:VCALENDAR