BEGIN:VCALENDAR
VERSION:2.0
PRODID:-//Kraftur - ECPv6.15.15//NONSGML v1.0//EN
CALSCALE:GREGORIAN
METHOD:PUBLISH
X-ORIGINAL-URL:https://kraftur.org
X-WR-CALDESC:Viðburðir í Kraftur
REFRESH-INTERVAL;VALUE=DURATION:PT1H
X-Robots-Tag:noindex
X-PUBLISHED-TTL:PT1H
BEGIN:VTIMEZONE
TZID:UTC
BEGIN:STANDARD
TZOFFSETFROM:+0000
TZOFFSETTO:+0000
TZNAME:UTC
DTSTART:20210101T000000
END:STANDARD
END:VTIMEZONE
BEGIN:VEVENT
DTSTART;TZID=UTC:20220324T193000
DTEND;TZID=UTC:20220324T210000
DTSTAMP:20260422T133730
CREATED:20220225T095719Z
LAST-MODIFIED:20220225T095719Z
UID:1277736-1648150200-1648155600@kraftur.org
SUMMARY:Kröftug strákastund á Kexinu
DESCRIPTION:Gleðilegan Mottumars! \nErt þú karlmaður og hefur greinst með krabbamein eða ert aðstandandi? Viltu heyra í jafningjum sem gengið hafa í gegnum svipaða reynslu? Þá mælum við eindregið með því að þú komir á Kex hostel fimmtudagskvöldið 24. mars klukkan 19:30. Skráðu þig hér. \nVið strákarnir í Krafti ætlum að hittast og eiga saman skemmtilega stund í tilefni af Mottumars. Vertu með okkur og hlustaðu á jafningja sem skilja þig. \nReynsluboltar koma og segja frá.\n\nRóbert Jóhannsson greindist með krabbamein í endaþarmi í nóvember í fyrra. Sonur hans\, Valdimar\, hefur rætt opinskátt um veikindi föður síns í hlaðvarpsþættinum Að eiga mömmu eða pabba með krabbamein á KrakkaRÚV og Róbert mun m.a. tala um hvernig hann og fjölskylda hans hafa tæklað veikindin saman.\nPétur Helgason mun segja frá sinni reynslu en konan hans greindist með brjóstakrabbamein og hélt Pétur fyrst að hann myndi geta græjað allt saman en svo fóru að koma upp óþægilegar tilfinningar\, kergja og reiði.\nHilmir Snær Guðnason\, leikari\, hefur misst tvær systur úr krabbameinum á síðustu fjórum árum. Hann mun ræða um reynslu sína en síðustu ár hafi verið fjölskyldunni erfið og mikið álag vegna veikindanna og missisins og hvernig þau eru að vinna sig í gegnum sorgina.\n\nÍ lok stundarinnar munu Jónas Sig taka nokkur lög.\n  \nMatti Osvald Stefánsson\, heilsufræðingur og markþjálfi Ljóssins og Þorri Snæbjörnsson\, sálfræðingur Krafts og Krabbameinsfélagsins\, munu leiða þessa kraftmiklu strákastund. \nÞað verður tilboð á veitingastaðnum Flatus á Kexinu fyrir stráka sem mæta á svæðið. \nVið mælum með að þú komir á þessa snilldar strákastund – taktu endilega með þér vin því við getum ábyggilega allir speglað okkur í einhverjum af þeim reynsluboltum sem munu stíga fram og segja frá sinni reynslu. Það getur verið gott að heyra hvernig aðrir hafa tæklað hlutina. \nSkráðu þig hér. \nÞetta getur bara ekki klikkað! \nSjáumst á Strákastundinni!
URL:https://kraftur.org/vidburdur/kroftug-strakastund-kexinu-2/
LOCATION:KEX hostel\, Skúlagata 28\, Reykjavík\, Reykjavík\, 101\, Iceland
ATTACH;FMTTYPE=image/jpeg:https://kraftur.org/wp-content/uploads/2022/02/kroftug_strakastund_mars2022_web-Banner-1.jpg
END:VEVENT
END:VCALENDAR