BEGIN:VCALENDAR
VERSION:2.0
PRODID:-//Kraftur - ECPv6.15.15//NONSGML v1.0//EN
CALSCALE:GREGORIAN
METHOD:PUBLISH
X-WR-CALNAME:Kraftur
X-ORIGINAL-URL:https://kraftur.org
X-WR-CALDESC:Viðburðir í Kraftur
REFRESH-INTERVAL;VALUE=DURATION:PT1H
X-Robots-Tag:noindex
X-PUBLISHED-TTL:PT1H
BEGIN:VTIMEZONE
TZID:UTC
BEGIN:STANDARD
TZOFFSETFROM:+0000
TZOFFSETTO:+0000
TZNAME:UTC
DTSTART:20210101T000000
END:STANDARD
END:VTIMEZONE
BEGIN:VEVENT
DTSTART;TZID=UTC:20220402T100000
DTEND;TZID=UTC:20220402T180000
DTSTAMP:20260422T095634
CREATED:20220223T165121Z
LAST-MODIFIED:20220223T165121Z
UID:1277738-1648893600-1648922400@kraftur.org
SUMMARY:Stuðningsfulltrúanámskeið á Akureyri - Stuðningsnetið
DESCRIPTION:Ertu góðhjartaður reynslubolti sem vilt nýta reynslu þína öðrum til góða? \nStuðningsfulltrúanámskeið fyrir verðandi stuðningsfulltrúa í stuðningsnetinu verður haldið laugardaginn 2. apríl\, frá klukkan 10:00 til 18:00 í Þjónustumiðstöð Krabbameinsfélags Akureyrar og nágrennis Glerárgötu 34\, annari hæð. \nÁ námskeiðinu er m.a. veitt þjálfun í samtalstækni\, að deila reynslu sinni á viðeigandi hátt og að setja mörk. Ásamt því að farið verður yfir ýmis málefni sem oft fylgja krabbameinsveikindum eins og erfiðar tilfinningar\, hvar má nálgast upplýsingar\, aðstoð fagaðila\, samskipti í fjölskyldum\, að tala við börn um krabbamein og fleira. \nBoðið verður upp á hádegisverð og komið verður til móts við þá sem ekki búa á Akureyri og þurfa að ferðast lengri vegalengdir til þess að komast á námskeiðið. \nNámskeiðið er bæði ætlað krabbameinsgreindum og aðstandendum en mælst er til þess að liðin séu a.m.k. tvö ár frá því að meðferð lauk en hvert tilfelli er metið fyrir sig. \nUmsjónarmaður námskeiðsins er Þorri Snæbjörnsson\, sálfræðingur og umsjónarmaður stuðningsnetsins og fer skráning fram i gegnum\nnetfangið thorri@krabb.is og hægt að fá nánari upplýsingar í síma 866-9618. \nÞorri sálfræðingur hefur samband við umsækjendur í framhaldinu.
URL:https://kraftur.org/vidburdur/studningsfulltruanamskeid-akureyri-studningsnetid/
LOCATION:Krabbameinsfélag Akureyrar\, Glerárgata 24\, Akureyri\, Akureyri\, 600\, Iceland
ATTACH;FMTTYPE=image/jpeg:https://kraftur.org/wp-content/uploads/2020/09/Banner_okt2020_studningsfulltrúanámskeid-scaled.jpg
END:VEVENT
BEGIN:VEVENT
DTSTART;TZID=UTC:20220402T110000
DTEND;TZID=UTC:20220402T140000
DTSTAMP:20260422T095634
CREATED:20220221T133132Z
LAST-MODIFIED:20220221T133132Z
UID:1277703-1648897200-1648908000@kraftur.org
SUMMARY:Ganga um Vífilsstaðahlíð - Að klífa brattann
DESCRIPTION:Laugardaginn 2.apríl ætlar gönguhópurinn Að klífa brattann að ganga Vífilstaðarhlíðina í Heiðmörk.\nÆtlum að hittast klukkan 11:00 á bílastæðinu við Heiðmerkurveg \nLeiðin er greiðfær með malarstíg alla leið. Frábær ganga sem er smá krefjandi þar sem ágætis halli er á Vífilstaðarhlíðinni en hentar flest öllum sem eru vel skóaðir \nKraftsfélagar\, fjölskyldur\, börn og vinir þeirra eru hjartanlega velkomin. \nEndilega meldið ykkur á viðburðinn hér.  \nGöngurnar eru fyrir alla þá sem hafa áhuga á nota göngur til heilsueflingar\, til að njóta íslenskrar náttúru og njóta þess að vera í hópi meðal jafningja. \nVið munum taka mið af veðri og snjóþunga og allar breytingar á gönguleið verða tilkynntar hér á viðburðinum. \n  \nAtli Már þjálfari FítonsKrafts mun leiða gönguna. Síminn hans er: 663-2252 \nÞú getur fylgst með okkur á Facebook og beðið um inngöngu í hópinn hér
URL:https://kraftur.org/vidburdur/ad-klifa-brattann-hringinn-kringum-helgafell/
ATTACH;FMTTYPE=image/jpeg:https://kraftur.org/wp-content/uploads/2020/06/Banner_ad_klifa_brattann.jpg
ORGANIZER;CN="A%C3%B0 kl%C3%ADfa brattann - G%C3%B6nguh%C3%B3pur":MAILTO:kraftur@kraftur.org
END:VEVENT
END:VCALENDAR