BEGIN:VCALENDAR
VERSION:2.0
PRODID:-//Kraftur - ECPv6.15.15//NONSGML v1.0//EN
CALSCALE:GREGORIAN
METHOD:PUBLISH
X-WR-CALNAME:Kraftur
X-ORIGINAL-URL:https://kraftur.org
X-WR-CALDESC:Viðburðir í Kraftur
REFRESH-INTERVAL;VALUE=DURATION:PT1H
X-Robots-Tag:noindex
X-PUBLISHED-TTL:PT1H
BEGIN:VTIMEZONE
TZID:UTC
BEGIN:STANDARD
TZOFFSETFROM:+0000
TZOFFSETTO:+0000
TZNAME:UTC
DTSTART:20210101T000000
END:STANDARD
END:VTIMEZONE
BEGIN:VEVENT
DTSTART;TZID=UTC:20220407T180000
DTEND;TZID=UTC:20220407T193000
DTSTAMP:20260422T095425
CREATED:20220225T151141Z
LAST-MODIFIED:20220225T151141Z
UID:1277748-1649354400-1649359800@kraftur.org
SUMMARY:Aðalfundur Krafts 2022
DESCRIPTION:Aðalfundur Krafts verður haldinn fimmtudaginn 7. apríl á 4.hæð Krabbameinsfélagsins Skógarhlíð 8 og hefst kl. 18:00. \nDagskrá fundarins er eftirfarandi: \n1. Kosning fundarstjóra og fundarritara.\n2. Skýrsla stjórnar um starfsemi liðins starfsárs.\n3. Endurskoðaðir reikningar félagsins lagðir fram til samþykktar\n4. Tillaga að breytingum á rekstrarformi félagsins\n5. Lagabreytingar\n6. Tillaga stjórnar um leiðréttingu á kjöri meðstjórnenda í stjórn félagsins.\n7. Kjör stjórnar\n8. Kjör löggilts endurskoðanda reikninga félagsins og skoðunarmenn reikninga úr hópi félagsmanna\n9. Ákvörðun um félagsgjald\n10. Önnur mál\n\nHér má sjá tillögur að lagabreytingum.\n\nAtkvæðisrétt á aðalfundi hafa skuldlausir félagsmenn.\nHvetjum áhugasama félagsmenn til að senda fyrirspurn varðandi framboð til stjórnar Krafts á framkvæmdastjóra á netfangið hulda@kraftur.org. Framboð skulu berast eigi síðar en miðvikudaginn 6.apríl.\n\nHlökkum til að sjá sem flesta félagsmenn á aðalfundi félagsins 7.apríl.\n 
URL:https://kraftur.org/vidburdur/adalfundur-krafts-2022/
LOCATION:Kraftur  – Stuðningsfélag fyrir ungt fólk sem greinst hefur með krabbamein og aðstandendur\, Skógarhlíð 8\, Reykjavík\, Reykjavík\, 105\, Iceland
ATTACH;FMTTYPE=image/jpeg:https://kraftur.org/wp-content/uploads/2020/05/Banner_Adalfundur_web-2.jpg
END:VEVENT
END:VCALENDAR