BEGIN:VCALENDAR
VERSION:2.0
PRODID:-//Kraftur - ECPv6.15.15//NONSGML v1.0//EN
CALSCALE:GREGORIAN
METHOD:PUBLISH
X-WR-CALNAME:Kraftur
X-ORIGINAL-URL:https://kraftur.org
X-WR-CALDESC:Viðburðir í Kraftur
REFRESH-INTERVAL;VALUE=DURATION:PT1H
X-Robots-Tag:noindex
X-PUBLISHED-TTL:PT1H
BEGIN:VTIMEZONE
TZID:UTC
BEGIN:STANDARD
TZOFFSETFROM:+0000
TZOFFSETTO:+0000
TZNAME:UTC
DTSTART:20210101T000000
END:STANDARD
END:VTIMEZONE
BEGIN:VEVENT
DTSTART;TZID=UTC:20220409T113000
DTEND;TZID=UTC:20220409T123000
DTSTAMP:20260422T095601
CREATED:20220131T172804Z
LAST-MODIFIED:20220131T172804Z
UID:1277407-1649503800-1649507400@kraftur.org
SUMMARY:Gönguskíði í Bláfjöllum - FítonsKraftur
DESCRIPTION:Skíðagöngufélagið Ullur að bjóða okkur upp á klukkutíma kennslu á gönguskíði á skíðasvæði þeirra við Bláfjöll \nÞar sem veðrið á Íslandi er ófyrirsjáanlegt er dagsetningin birt með fyrirvara\, en þeir sem vilja og hafa skráð sig halda sínu plássi\, ef breyting verður á viðburðinum. \nÞað ætti að vera öllum fært að mæta þar sem okkur verða kennd byrjendatökin af reyndum kennurum frá  Ullur. Við fáum skíði og skó lánuð á svæðinu og því þarf aðeins að taka með sér eru hlý og góð föt og nesti \nViðburðurinn er opinn öllum félagsmönnum Krafts en það þarf að skrá sig hér því takmörkuð pláss eru í boði \nFrekari upplýsingar er hægt að nálgast hjá Hrefnu í síma 866-9698 eða hrefna@kraftur.org
URL:https://kraftur.org/vidburdur/fitonskraftur-gonguskidi-blafjollum/
LOCATION:Ullur gönguskíðafélag\, Bláfjöll\, Iceland
ATTACH;FMTTYPE=image/jpeg:https://kraftur.org/wp-content/uploads/2022/01/banner_web_gonguskidi_feb2022-1.jpg
END:VEVENT
END:VCALENDAR