BEGIN:VCALENDAR
VERSION:2.0
PRODID:-//Kraftur - ECPv6.15.15//NONSGML v1.0//EN
CALSCALE:GREGORIAN
METHOD:PUBLISH
X-ORIGINAL-URL:https://kraftur.org
X-WR-CALDESC:Viðburðir í Kraftur
REFRESH-INTERVAL;VALUE=DURATION:PT1H
X-Robots-Tag:noindex
X-PUBLISHED-TTL:PT1H
BEGIN:VTIMEZONE
TZID:UTC
BEGIN:STANDARD
TZOFFSETFROM:+0000
TZOFFSETTO:+0000
TZNAME:UTC
DTSTART:20210101T000000
END:STANDARD
END:VTIMEZONE
BEGIN:VEVENT
DTSTART;TZID=UTC:20220404T170000
DTEND;TZID=UTC:20220404T183000
DTSTAMP:20260422T095904
CREATED:20220225T150812Z
LAST-MODIFIED:20220225T150812Z
UID:1277798-1649091600-1649097000@kraftur.org
SUMMARY:Bjargráð við kvíða - vinnustofa með Þorra sálfræðingi
DESCRIPTION:Bjargráð við kvíða – námskeið \nÁ námskeiðinu er lögð áhersla á það hvernig koma má auga á streituviðbrögð og langvarandi kvíða\, auk þess sem farið verður yfir nokkur hagnýt bjargráð til að takast á við kvíða og streitu í daglegu lífi.\nNámskeiðið verðu tvo daga í um einn og hálfan tíma í senn og er áætlað að það hefjist 4. apríl kl. 17:00. \nSkráning á námskeiðið fer fram hér  \nÞorri Snæbjörnsson sálfræðingur Krabbameinsfélagsins mun sjá um námskeiðið og ætlar að hjálpa okkur að bæta við verkfærum í verkfærakistuna okkar sem gæti gagnast okkur að takast betur á við kvíða.
URL:https://kraftur.org/vidburdur/bjargrad-vid-kvida-vinnustofa-med-thorra-salfraedingi/
LOCATION:Kraftur  – Stuðningsfélag fyrir ungt fólk sem greinst hefur með krabbamein og aðstandendur\, Skógarhlíð 8\, Reykjavík\, Reykjavík\, 105\, Iceland
ATTACH;FMTTYPE=image/jpeg:https://kraftur.org/wp-content/uploads/2022/02/banner_mars2022_bjargarrad-vid-kvida_web-1.jpg
END:VEVENT
END:VCALENDAR