BEGIN:VCALENDAR
VERSION:2.0
PRODID:-//Kraftur - ECPv6.15.15//NONSGML v1.0//EN
CALSCALE:GREGORIAN
METHOD:PUBLISH
X-WR-CALNAME:Kraftur
X-ORIGINAL-URL:https://kraftur.org
X-WR-CALDESC:Viðburðir í Kraftur
REFRESH-INTERVAL;VALUE=DURATION:PT1H
X-Robots-Tag:noindex
X-PUBLISHED-TTL:PT1H
BEGIN:VTIMEZONE
TZID:UTC
BEGIN:STANDARD
TZOFFSETFROM:+0000
TZOFFSETTO:+0000
TZNAME:UTC
DTSTART:20210101T000000
END:STANDARD
END:VTIMEZONE
BEGIN:VEVENT
DTSTART;TZID=UTC:20220427T170000
DTEND;TZID=UTC:20220427T200000
DTSTAMP:20260422T095533
CREATED:20220404T150854Z
LAST-MODIFIED:20220404T150854Z
UID:1278416-1651078800-1651089600@kraftur.org
SUMMARY:Perlað með félagsmönnum Krafts
DESCRIPTION:Nú getum við loksins komið saman og perlað … jibbí jejjj \nMiðvikudaginn 27. apríl\, milli 17 og 20 ætlum við hjá Krafti að safnast saman á 4. hæð í Skógarhlíð 8 og perla nýja Lífið er núna armbandið sem selt verður til styrktar félaginu samhliða átakinu okkar sem hefst um miðjan maí. \nVið þurfum að safna upp í góðan lager til að anna eftirspurn þegar kemur að því að setja armbandið í sölu og þar sem armböndin okkar eru öll perluð í sjálfboðavinnu óskum við eftir að félagsmenn\, vinir og vandamenn og aðrir velunnarar Krafts fjölmenni og taki þátt í þessari skemmtilegu vinnu með okkur. \nHægt er að koma hvenær sem er á milli kl. 17 – 20 og perla eins mörg armbönd og tök eru á\, en endilega meldið ykkur á FB viðburðinn okkar svo við vitum við hve mörgum við megum búast \nVið munum auðvitað hafa heitt á könnunni og eitthvað orkuríkt snarl á hliðarlínunni \n*Ath – ekki verður hægt að kaupa nýja armbandið fyrr en það fer í sölu um miðjan maí \n\nKOMIÐ OG PERLIÐ MEÐ KRAFTI ❤
URL:https://kraftur.org/vidburdur/perlad-med-felagsmonnum-krafts/
LOCATION:Kraftur  – Stuðningsfélag fyrir ungt fólk sem greinst hefur með krabbamein og aðstandendur\, Skógarhlíð 8\, Reykjavík\, Reykjavík\, 105\, Iceland
ATTACH;FMTTYPE=image/jpeg:https://kraftur.org/wp-content/uploads/2020/05/perlad-af-krafti-1.jpg
END:VEVENT
END:VCALENDAR